BEGIN:VCALENDAR
VERSION:2.0
PRODID:-//Hula Grill Kaanapali - ECPv6.15.5//NONSGML v1.0//EN
CALSCALE:GREGORIAN
METHOD:PUBLISH
X-WR-CALNAME:Hula Grill Kaanapali
X-ORIGINAL-URL:https://www.hulagrillkaanapali.com
X-WR-CALDESC:Events for Hula Grill Kaanapali
REFRESH-INTERVAL;VALUE=DURATION:PT1H
X-Robots-Tag:noindex
X-PUBLISHED-TTL:PT1H
BEGIN:VTIMEZONE
TZID:Pacific/Honolulu
BEGIN:STANDARD
TZOFFSETFROM:-1000
TZOFFSETTO:-1000
TZNAME:HST
DTSTART:20250101T000000
END:STANDARD
END:VTIMEZONE
BEGIN:VEVENT
DTSTART;TZID=Pacific/Honolulu:20250219T180000
DTEND;TZID=Pacific/Honolulu:20250219T203000
DTSTAMP:20260421T004733
CREATED:20221110T214057Z
LAST-MODIFIED:20221110T214057Z
UID:16754-1739988000-1739997000@www.hulagrillkaanapali.com
SUMMARY:Live Music Accompanied by Hula Show
DESCRIPTION:Live Music Daily from 6:00pm – 8:30pm \nAccompanied by Nightly Hula Show from 7:00pm – 8:00pm
URL:https://www.hulagrillkaanapali.com/event/live-music/2025-02-19/
LOCATION:Hula Grill Ka‘anapali\, 2435 Kaanapali Parkway\, Bldg. P1\, Lahaina\, HI\, 96761\, United States
CATEGORIES:Entertainment,Weekly Happenings
ATTACH;FMTTYPE=image/jpeg:https://www.hulagrillkaanapali.com/wp-content/uploads/2018/09/Hula-Grill-Aloha-Friday-1.jpg
END:VEVENT
BEGIN:VEVENT
DTSTART;TZID=Pacific/Honolulu:20250218T180000
DTEND;TZID=Pacific/Honolulu:20250218T203000
DTSTAMP:20260421T004733
CREATED:20221110T214057Z
LAST-MODIFIED:20221110T214057Z
UID:16753-1739901600-1739910600@www.hulagrillkaanapali.com
SUMMARY:Live Music Accompanied by Hula Show
DESCRIPTION:Live Music Daily from 6:00pm – 8:30pm \nAccompanied by Nightly Hula Show from 7:00pm – 8:00pm
URL:https://www.hulagrillkaanapali.com/event/live-music/2025-02-18/
LOCATION:Hula Grill Ka‘anapali\, 2435 Kaanapali Parkway\, Bldg. P1\, Lahaina\, HI\, 96761\, United States
CATEGORIES:Entertainment,Weekly Happenings
ATTACH;FMTTYPE=image/jpeg:https://www.hulagrillkaanapali.com/wp-content/uploads/2018/09/Hula-Grill-Aloha-Friday-1.jpg
END:VEVENT
BEGIN:VEVENT
DTSTART;TZID=Pacific/Honolulu:20250217T180000
DTEND;TZID=Pacific/Honolulu:20250217T203000
DTSTAMP:20260421T004733
CREATED:20221110T214057Z
LAST-MODIFIED:20221110T214057Z
UID:16752-1739815200-1739824200@www.hulagrillkaanapali.com
SUMMARY:Live Music Accompanied by Hula Show
DESCRIPTION:Live Music Daily from 6:00pm – 8:30pm \nAccompanied by Nightly Hula Show from 7:00pm – 8:00pm
URL:https://www.hulagrillkaanapali.com/event/live-music/2025-02-17/
LOCATION:Hula Grill Ka‘anapali\, 2435 Kaanapali Parkway\, Bldg. P1\, Lahaina\, HI\, 96761\, United States
CATEGORIES:Entertainment,Weekly Happenings
ATTACH;FMTTYPE=image/jpeg:https://www.hulagrillkaanapali.com/wp-content/uploads/2018/09/Hula-Grill-Aloha-Friday-1.jpg
END:VEVENT
BEGIN:VEVENT
DTSTART;TZID=Pacific/Honolulu:20250216T180000
DTEND;TZID=Pacific/Honolulu:20250216T203000
DTSTAMP:20260421T004733
CREATED:20221110T214057Z
LAST-MODIFIED:20221110T214057Z
UID:16751-1739728800-1739737800@www.hulagrillkaanapali.com
SUMMARY:Live Music Accompanied by Hula Show
DESCRIPTION:Live Music Daily from 6:00pm – 8:30pm \nAccompanied by Nightly Hula Show from 7:00pm – 8:00pm
URL:https://www.hulagrillkaanapali.com/event/live-music/2025-02-16/
LOCATION:Hula Grill Ka‘anapali\, 2435 Kaanapali Parkway\, Bldg. P1\, Lahaina\, HI\, 96761\, United States
CATEGORIES:Entertainment,Weekly Happenings
ATTACH;FMTTYPE=image/jpeg:https://www.hulagrillkaanapali.com/wp-content/uploads/2018/09/Hula-Grill-Aloha-Friday-1.jpg
END:VEVENT
BEGIN:VEVENT
DTSTART;TZID=Pacific/Honolulu:20250215T180000
DTEND;TZID=Pacific/Honolulu:20250215T203000
DTSTAMP:20260421T004733
CREATED:20221110T214057Z
LAST-MODIFIED:20221110T214057Z
UID:16750-1739642400-1739651400@www.hulagrillkaanapali.com
SUMMARY:Live Music Accompanied by Hula Show
DESCRIPTION:Live Music Daily from 6:00pm – 8:30pm \nAccompanied by Nightly Hula Show from 7:00pm – 8:00pm
URL:https://www.hulagrillkaanapali.com/event/live-music/2025-02-15/
LOCATION:Hula Grill Ka‘anapali\, 2435 Kaanapali Parkway\, Bldg. P1\, Lahaina\, HI\, 96761\, United States
CATEGORIES:Entertainment,Weekly Happenings
ATTACH;FMTTYPE=image/jpeg:https://www.hulagrillkaanapali.com/wp-content/uploads/2018/09/Hula-Grill-Aloha-Friday-1.jpg
END:VEVENT
BEGIN:VEVENT
DTSTART;TZID=Pacific/Honolulu:20250214T180000
DTEND;TZID=Pacific/Honolulu:20250214T203000
DTSTAMP:20260421T004733
CREATED:20221110T214057Z
LAST-MODIFIED:20221110T214057Z
UID:16749-1739556000-1739565000@www.hulagrillkaanapali.com
SUMMARY:Live Music Accompanied by Hula Show
DESCRIPTION:Live Music Daily from 6:00pm – 8:30pm \nAccompanied by Nightly Hula Show from 7:00pm – 8:00pm
URL:https://www.hulagrillkaanapali.com/event/live-music/2025-02-14/
LOCATION:Hula Grill Ka‘anapali\, 2435 Kaanapali Parkway\, Bldg. P1\, Lahaina\, HI\, 96761\, United States
CATEGORIES:Entertainment,Weekly Happenings
ATTACH;FMTTYPE=image/jpeg:https://www.hulagrillkaanapali.com/wp-content/uploads/2018/09/Hula-Grill-Aloha-Friday-1.jpg
END:VEVENT
BEGIN:VEVENT
DTSTART;TZID=Pacific/Honolulu:20250213T180000
DTEND;TZID=Pacific/Honolulu:20250213T203000
DTSTAMP:20260421T004733
CREATED:20221110T214057Z
LAST-MODIFIED:20221110T214057Z
UID:16748-1739469600-1739478600@www.hulagrillkaanapali.com
SUMMARY:Live Music Accompanied by Hula Show
DESCRIPTION:Live Music Daily from 6:00pm – 8:30pm \nAccompanied by Nightly Hula Show from 7:00pm – 8:00pm
URL:https://www.hulagrillkaanapali.com/event/live-music/2025-02-13/
LOCATION:Hula Grill Ka‘anapali\, 2435 Kaanapali Parkway\, Bldg. P1\, Lahaina\, HI\, 96761\, United States
CATEGORIES:Entertainment,Weekly Happenings
ATTACH;FMTTYPE=image/jpeg:https://www.hulagrillkaanapali.com/wp-content/uploads/2018/09/Hula-Grill-Aloha-Friday-1.jpg
END:VEVENT
BEGIN:VEVENT
DTSTART;TZID=Pacific/Honolulu:20250212T180000
DTEND;TZID=Pacific/Honolulu:20250212T203000
DTSTAMP:20260421T004733
CREATED:20221110T214057Z
LAST-MODIFIED:20221110T214057Z
UID:16747-1739383200-1739392200@www.hulagrillkaanapali.com
SUMMARY:Live Music Accompanied by Hula Show
DESCRIPTION:Live Music Daily from 6:00pm – 8:30pm \nAccompanied by Nightly Hula Show from 7:00pm – 8:00pm
URL:https://www.hulagrillkaanapali.com/event/live-music/2025-02-12/
LOCATION:Hula Grill Ka‘anapali\, 2435 Kaanapali Parkway\, Bldg. P1\, Lahaina\, HI\, 96761\, United States
CATEGORIES:Entertainment,Weekly Happenings
ATTACH;FMTTYPE=image/jpeg:https://www.hulagrillkaanapali.com/wp-content/uploads/2018/09/Hula-Grill-Aloha-Friday-1.jpg
END:VEVENT
BEGIN:VEVENT
DTSTART;TZID=Pacific/Honolulu:20250211T180000
DTEND;TZID=Pacific/Honolulu:20250211T203000
DTSTAMP:20260421T004733
CREATED:20221110T214057Z
LAST-MODIFIED:20221110T214057Z
UID:16746-1739296800-1739305800@www.hulagrillkaanapali.com
SUMMARY:Live Music Accompanied by Hula Show
DESCRIPTION:Live Music Daily from 6:00pm – 8:30pm \nAccompanied by Nightly Hula Show from 7:00pm – 8:00pm
URL:https://www.hulagrillkaanapali.com/event/live-music/2025-02-11/
LOCATION:Hula Grill Ka‘anapali\, 2435 Kaanapali Parkway\, Bldg. P1\, Lahaina\, HI\, 96761\, United States
CATEGORIES:Entertainment,Weekly Happenings
ATTACH;FMTTYPE=image/jpeg:https://www.hulagrillkaanapali.com/wp-content/uploads/2018/09/Hula-Grill-Aloha-Friday-1.jpg
END:VEVENT
BEGIN:VEVENT
DTSTART;TZID=Pacific/Honolulu:20250210T180000
DTEND;TZID=Pacific/Honolulu:20250210T203000
DTSTAMP:20260421T004733
CREATED:20221110T214057Z
LAST-MODIFIED:20221110T214057Z
UID:16745-1739210400-1739219400@www.hulagrillkaanapali.com
SUMMARY:Live Music Accompanied by Hula Show
DESCRIPTION:Live Music Daily from 6:00pm – 8:30pm \nAccompanied by Nightly Hula Show from 7:00pm – 8:00pm
URL:https://www.hulagrillkaanapali.com/event/live-music/2025-02-10/
LOCATION:Hula Grill Ka‘anapali\, 2435 Kaanapali Parkway\, Bldg. P1\, Lahaina\, HI\, 96761\, United States
CATEGORIES:Entertainment,Weekly Happenings
ATTACH;FMTTYPE=image/jpeg:https://www.hulagrillkaanapali.com/wp-content/uploads/2018/09/Hula-Grill-Aloha-Friday-1.jpg
END:VEVENT
BEGIN:VEVENT
DTSTART;TZID=Pacific/Honolulu:20250209T180000
DTEND;TZID=Pacific/Honolulu:20250209T203000
DTSTAMP:20260421T004733
CREATED:20221110T214057Z
LAST-MODIFIED:20221110T214057Z
UID:16744-1739124000-1739133000@www.hulagrillkaanapali.com
SUMMARY:Live Music Accompanied by Hula Show
DESCRIPTION:Live Music Daily from 6:00pm – 8:30pm \nAccompanied by Nightly Hula Show from 7:00pm – 8:00pm
URL:https://www.hulagrillkaanapali.com/event/live-music/2025-02-09/
LOCATION:Hula Grill Ka‘anapali\, 2435 Kaanapali Parkway\, Bldg. P1\, Lahaina\, HI\, 96761\, United States
CATEGORIES:Entertainment,Weekly Happenings
ATTACH;FMTTYPE=image/jpeg:https://www.hulagrillkaanapali.com/wp-content/uploads/2018/09/Hula-Grill-Aloha-Friday-1.jpg
END:VEVENT
BEGIN:VEVENT
DTSTART;TZID=Pacific/Honolulu:20250208T180000
DTEND;TZID=Pacific/Honolulu:20250208T203000
DTSTAMP:20260421T004733
CREATED:20221110T214057Z
LAST-MODIFIED:20221110T214057Z
UID:16743-1739037600-1739046600@www.hulagrillkaanapali.com
SUMMARY:Live Music Accompanied by Hula Show
DESCRIPTION:Live Music Daily from 6:00pm – 8:30pm \nAccompanied by Nightly Hula Show from 7:00pm – 8:00pm
URL:https://www.hulagrillkaanapali.com/event/live-music/2025-02-08/
LOCATION:Hula Grill Ka‘anapali\, 2435 Kaanapali Parkway\, Bldg. P1\, Lahaina\, HI\, 96761\, United States
CATEGORIES:Entertainment,Weekly Happenings
ATTACH;FMTTYPE=image/jpeg:https://www.hulagrillkaanapali.com/wp-content/uploads/2018/09/Hula-Grill-Aloha-Friday-1.jpg
END:VEVENT
BEGIN:VEVENT
DTSTART;TZID=Pacific/Honolulu:20250207T180000
DTEND;TZID=Pacific/Honolulu:20250207T203000
DTSTAMP:20260421T004733
CREATED:20221110T214057Z
LAST-MODIFIED:20221110T214057Z
UID:16742-1738951200-1738960200@www.hulagrillkaanapali.com
SUMMARY:Live Music Accompanied by Hula Show
DESCRIPTION:Live Music Daily from 6:00pm – 8:30pm \nAccompanied by Nightly Hula Show from 7:00pm – 8:00pm
URL:https://www.hulagrillkaanapali.com/event/live-music/2025-02-07/
LOCATION:Hula Grill Ka‘anapali\, 2435 Kaanapali Parkway\, Bldg. P1\, Lahaina\, HI\, 96761\, United States
CATEGORIES:Entertainment,Weekly Happenings
ATTACH;FMTTYPE=image/jpeg:https://www.hulagrillkaanapali.com/wp-content/uploads/2018/09/Hula-Grill-Aloha-Friday-1.jpg
END:VEVENT
BEGIN:VEVENT
DTSTART;TZID=Pacific/Honolulu:20250206T180000
DTEND;TZID=Pacific/Honolulu:20250206T203000
DTSTAMP:20260421T004733
CREATED:20221110T214057Z
LAST-MODIFIED:20221110T214057Z
UID:16741-1738864800-1738873800@www.hulagrillkaanapali.com
SUMMARY:Live Music Accompanied by Hula Show
DESCRIPTION:Live Music Daily from 6:00pm – 8:30pm \nAccompanied by Nightly Hula Show from 7:00pm – 8:00pm
URL:https://www.hulagrillkaanapali.com/event/live-music/2025-02-06/
LOCATION:Hula Grill Ka‘anapali\, 2435 Kaanapali Parkway\, Bldg. P1\, Lahaina\, HI\, 96761\, United States
CATEGORIES:Entertainment,Weekly Happenings
ATTACH;FMTTYPE=image/jpeg:https://www.hulagrillkaanapali.com/wp-content/uploads/2018/09/Hula-Grill-Aloha-Friday-1.jpg
END:VEVENT
BEGIN:VEVENT
DTSTART;TZID=Pacific/Honolulu:20250205T180000
DTEND;TZID=Pacific/Honolulu:20250205T203000
DTSTAMP:20260421T004733
CREATED:20221110T214057Z
LAST-MODIFIED:20221110T214057Z
UID:16740-1738778400-1738787400@www.hulagrillkaanapali.com
SUMMARY:Live Music Accompanied by Hula Show
DESCRIPTION:Live Music Daily from 6:00pm – 8:30pm \nAccompanied by Nightly Hula Show from 7:00pm – 8:00pm
URL:https://www.hulagrillkaanapali.com/event/live-music/2025-02-05/
LOCATION:Hula Grill Ka‘anapali\, 2435 Kaanapali Parkway\, Bldg. P1\, Lahaina\, HI\, 96761\, United States
CATEGORIES:Entertainment,Weekly Happenings
ATTACH;FMTTYPE=image/jpeg:https://www.hulagrillkaanapali.com/wp-content/uploads/2018/09/Hula-Grill-Aloha-Friday-1.jpg
END:VEVENT
BEGIN:VEVENT
DTSTART;TZID=Pacific/Honolulu:20250204T180000
DTEND;TZID=Pacific/Honolulu:20250204T203000
DTSTAMP:20260421T004733
CREATED:20221110T214057Z
LAST-MODIFIED:20221110T214057Z
UID:16739-1738692000-1738701000@www.hulagrillkaanapali.com
SUMMARY:Live Music Accompanied by Hula Show
DESCRIPTION:Live Music Daily from 6:00pm – 8:30pm \nAccompanied by Nightly Hula Show from 7:00pm – 8:00pm
URL:https://www.hulagrillkaanapali.com/event/live-music/2025-02-04/
LOCATION:Hula Grill Ka‘anapali\, 2435 Kaanapali Parkway\, Bldg. P1\, Lahaina\, HI\, 96761\, United States
CATEGORIES:Entertainment,Weekly Happenings
ATTACH;FMTTYPE=image/jpeg:https://www.hulagrillkaanapali.com/wp-content/uploads/2018/09/Hula-Grill-Aloha-Friday-1.jpg
END:VEVENT
BEGIN:VEVENT
DTSTART;TZID=Pacific/Honolulu:20250203T180000
DTEND;TZID=Pacific/Honolulu:20250203T203000
DTSTAMP:20260421T004733
CREATED:20221110T214057Z
LAST-MODIFIED:20221110T214057Z
UID:16738-1738605600-1738614600@www.hulagrillkaanapali.com
SUMMARY:Live Music Accompanied by Hula Show
DESCRIPTION:Live Music Daily from 6:00pm – 8:30pm \nAccompanied by Nightly Hula Show from 7:00pm – 8:00pm
URL:https://www.hulagrillkaanapali.com/event/live-music/2025-02-03/
LOCATION:Hula Grill Ka‘anapali\, 2435 Kaanapali Parkway\, Bldg. P1\, Lahaina\, HI\, 96761\, United States
CATEGORIES:Entertainment,Weekly Happenings
ATTACH;FMTTYPE=image/jpeg:https://www.hulagrillkaanapali.com/wp-content/uploads/2018/09/Hula-Grill-Aloha-Friday-1.jpg
END:VEVENT
BEGIN:VEVENT
DTSTART;TZID=Pacific/Honolulu:20250202T180000
DTEND;TZID=Pacific/Honolulu:20250202T203000
DTSTAMP:20260421T004733
CREATED:20221110T214057Z
LAST-MODIFIED:20221110T214057Z
UID:16737-1738519200-1738528200@www.hulagrillkaanapali.com
SUMMARY:Live Music Accompanied by Hula Show
DESCRIPTION:Live Music Daily from 6:00pm – 8:30pm \nAccompanied by Nightly Hula Show from 7:00pm – 8:00pm
URL:https://www.hulagrillkaanapali.com/event/live-music/2025-02-02/
LOCATION:Hula Grill Ka‘anapali\, 2435 Kaanapali Parkway\, Bldg. P1\, Lahaina\, HI\, 96761\, United States
CATEGORIES:Entertainment,Weekly Happenings
ATTACH;FMTTYPE=image/jpeg:https://www.hulagrillkaanapali.com/wp-content/uploads/2018/09/Hula-Grill-Aloha-Friday-1.jpg
END:VEVENT
BEGIN:VEVENT
DTSTART;TZID=Pacific/Honolulu:20250201T180000
DTEND;TZID=Pacific/Honolulu:20250201T203000
DTSTAMP:20260421T004733
CREATED:20221110T214057Z
LAST-MODIFIED:20221110T214057Z
UID:16736-1738432800-1738441800@www.hulagrillkaanapali.com
SUMMARY:Live Music Accompanied by Hula Show
DESCRIPTION:Live Music Daily from 6:00pm – 8:30pm \nAccompanied by Nightly Hula Show from 7:00pm – 8:00pm
URL:https://www.hulagrillkaanapali.com/event/live-music/2025-02-01/
LOCATION:Hula Grill Ka‘anapali\, 2435 Kaanapali Parkway\, Bldg. P1\, Lahaina\, HI\, 96761\, United States
CATEGORIES:Entertainment,Weekly Happenings
ATTACH;FMTTYPE=image/jpeg:https://www.hulagrillkaanapali.com/wp-content/uploads/2018/09/Hula-Grill-Aloha-Friday-1.jpg
END:VEVENT
BEGIN:VEVENT
DTSTART;TZID=Pacific/Honolulu:20250131T180000
DTEND;TZID=Pacific/Honolulu:20250131T203000
DTSTAMP:20260421T004733
CREATED:20221110T214057Z
LAST-MODIFIED:20221110T214057Z
UID:16735-1738346400-1738355400@www.hulagrillkaanapali.com
SUMMARY:Live Music Accompanied by Hula Show
DESCRIPTION:Live Music Daily from 6:00pm – 8:30pm \nAccompanied by Nightly Hula Show from 7:00pm – 8:00pm
URL:https://www.hulagrillkaanapali.com/event/live-music/2025-01-31/
LOCATION:Hula Grill Ka‘anapali\, 2435 Kaanapali Parkway\, Bldg. P1\, Lahaina\, HI\, 96761\, United States
CATEGORIES:Entertainment,Weekly Happenings
ATTACH;FMTTYPE=image/jpeg:https://www.hulagrillkaanapali.com/wp-content/uploads/2018/09/Hula-Grill-Aloha-Friday-1.jpg
END:VEVENT
BEGIN:VEVENT
DTSTART;TZID=Pacific/Honolulu:20250130T180000
DTEND;TZID=Pacific/Honolulu:20250130T203000
DTSTAMP:20260421T004733
CREATED:20221110T214057Z
LAST-MODIFIED:20221110T214057Z
UID:16734-1738260000-1738269000@www.hulagrillkaanapali.com
SUMMARY:Live Music Accompanied by Hula Show
DESCRIPTION:Live Music Daily from 6:00pm – 8:30pm \nAccompanied by Nightly Hula Show from 7:00pm – 8:00pm
URL:https://www.hulagrillkaanapali.com/event/live-music/2025-01-30/
LOCATION:Hula Grill Ka‘anapali\, 2435 Kaanapali Parkway\, Bldg. P1\, Lahaina\, HI\, 96761\, United States
CATEGORIES:Entertainment,Weekly Happenings
ATTACH;FMTTYPE=image/jpeg:https://www.hulagrillkaanapali.com/wp-content/uploads/2018/09/Hula-Grill-Aloha-Friday-1.jpg
END:VEVENT
BEGIN:VEVENT
DTSTART;TZID=Pacific/Honolulu:20250129T180000
DTEND;TZID=Pacific/Honolulu:20250129T203000
DTSTAMP:20260421T004733
CREATED:20221110T214057Z
LAST-MODIFIED:20221110T214057Z
UID:16733-1738173600-1738182600@www.hulagrillkaanapali.com
SUMMARY:Live Music Accompanied by Hula Show
DESCRIPTION:Live Music Daily from 6:00pm – 8:30pm \nAccompanied by Nightly Hula Show from 7:00pm – 8:00pm
URL:https://www.hulagrillkaanapali.com/event/live-music/2025-01-29/
LOCATION:Hula Grill Ka‘anapali\, 2435 Kaanapali Parkway\, Bldg. P1\, Lahaina\, HI\, 96761\, United States
CATEGORIES:Entertainment,Weekly Happenings
ATTACH;FMTTYPE=image/jpeg:https://www.hulagrillkaanapali.com/wp-content/uploads/2018/09/Hula-Grill-Aloha-Friday-1.jpg
END:VEVENT
BEGIN:VEVENT
DTSTART;TZID=Pacific/Honolulu:20250128T180000
DTEND;TZID=Pacific/Honolulu:20250128T203000
DTSTAMP:20260421T004733
CREATED:20221110T214057Z
LAST-MODIFIED:20221110T214057Z
UID:16732-1738087200-1738096200@www.hulagrillkaanapali.com
SUMMARY:Live Music Accompanied by Hula Show
DESCRIPTION:Live Music Daily from 6:00pm – 8:30pm \nAccompanied by Nightly Hula Show from 7:00pm – 8:00pm
URL:https://www.hulagrillkaanapali.com/event/live-music/2025-01-28/
LOCATION:Hula Grill Ka‘anapali\, 2435 Kaanapali Parkway\, Bldg. P1\, Lahaina\, HI\, 96761\, United States
CATEGORIES:Entertainment,Weekly Happenings
ATTACH;FMTTYPE=image/jpeg:https://www.hulagrillkaanapali.com/wp-content/uploads/2018/09/Hula-Grill-Aloha-Friday-1.jpg
END:VEVENT
BEGIN:VEVENT
DTSTART;TZID=Pacific/Honolulu:20250127T180000
DTEND;TZID=Pacific/Honolulu:20250127T203000
DTSTAMP:20260421T004733
CREATED:20221110T214057Z
LAST-MODIFIED:20221110T214057Z
UID:16731-1738000800-1738009800@www.hulagrillkaanapali.com
SUMMARY:Live Music Accompanied by Hula Show
DESCRIPTION:Live Music Daily from 6:00pm – 8:30pm \nAccompanied by Nightly Hula Show from 7:00pm – 8:00pm
URL:https://www.hulagrillkaanapali.com/event/live-music/2025-01-27/
LOCATION:Hula Grill Ka‘anapali\, 2435 Kaanapali Parkway\, Bldg. P1\, Lahaina\, HI\, 96761\, United States
CATEGORIES:Entertainment,Weekly Happenings
ATTACH;FMTTYPE=image/jpeg:https://www.hulagrillkaanapali.com/wp-content/uploads/2018/09/Hula-Grill-Aloha-Friday-1.jpg
END:VEVENT
BEGIN:VEVENT
DTSTART;TZID=Pacific/Honolulu:20250126T180000
DTEND;TZID=Pacific/Honolulu:20250126T203000
DTSTAMP:20260421T004733
CREATED:20221110T214057Z
LAST-MODIFIED:20221110T214057Z
UID:16730-1737914400-1737923400@www.hulagrillkaanapali.com
SUMMARY:Live Music Accompanied by Hula Show
DESCRIPTION:Live Music Daily from 6:00pm – 8:30pm \nAccompanied by Nightly Hula Show from 7:00pm – 8:00pm
URL:https://www.hulagrillkaanapali.com/event/live-music/2025-01-26/
LOCATION:Hula Grill Ka‘anapali\, 2435 Kaanapali Parkway\, Bldg. P1\, Lahaina\, HI\, 96761\, United States
CATEGORIES:Entertainment,Weekly Happenings
ATTACH;FMTTYPE=image/jpeg:https://www.hulagrillkaanapali.com/wp-content/uploads/2018/09/Hula-Grill-Aloha-Friday-1.jpg
END:VEVENT
BEGIN:VEVENT
DTSTART;TZID=Pacific/Honolulu:20250125T180000
DTEND;TZID=Pacific/Honolulu:20250125T203000
DTSTAMP:20260421T004733
CREATED:20221110T214057Z
LAST-MODIFIED:20221110T214057Z
UID:16729-1737828000-1737837000@www.hulagrillkaanapali.com
SUMMARY:Live Music Accompanied by Hula Show
DESCRIPTION:Live Music Daily from 6:00pm – 8:30pm \nAccompanied by Nightly Hula Show from 7:00pm – 8:00pm
URL:https://www.hulagrillkaanapali.com/event/live-music/2025-01-25/
LOCATION:Hula Grill Ka‘anapali\, 2435 Kaanapali Parkway\, Bldg. P1\, Lahaina\, HI\, 96761\, United States
CATEGORIES:Entertainment,Weekly Happenings
ATTACH;FMTTYPE=image/jpeg:https://www.hulagrillkaanapali.com/wp-content/uploads/2018/09/Hula-Grill-Aloha-Friday-1.jpg
END:VEVENT
BEGIN:VEVENT
DTSTART;TZID=Pacific/Honolulu:20250124T180000
DTEND;TZID=Pacific/Honolulu:20250124T203000
DTSTAMP:20260421T004733
CREATED:20221110T214057Z
LAST-MODIFIED:20221110T214057Z
UID:16728-1737741600-1737750600@www.hulagrillkaanapali.com
SUMMARY:Live Music Accompanied by Hula Show
DESCRIPTION:Live Music Daily from 6:00pm – 8:30pm \nAccompanied by Nightly Hula Show from 7:00pm – 8:00pm
URL:https://www.hulagrillkaanapali.com/event/live-music/2025-01-24/
LOCATION:Hula Grill Ka‘anapali\, 2435 Kaanapali Parkway\, Bldg. P1\, Lahaina\, HI\, 96761\, United States
CATEGORIES:Entertainment,Weekly Happenings
ATTACH;FMTTYPE=image/jpeg:https://www.hulagrillkaanapali.com/wp-content/uploads/2018/09/Hula-Grill-Aloha-Friday-1.jpg
END:VEVENT
BEGIN:VEVENT
DTSTART;TZID=Pacific/Honolulu:20250123T180000
DTEND;TZID=Pacific/Honolulu:20250123T203000
DTSTAMP:20260421T004733
CREATED:20221110T214057Z
LAST-MODIFIED:20221110T214057Z
UID:16727-1737655200-1737664200@www.hulagrillkaanapali.com
SUMMARY:Live Music Accompanied by Hula Show
DESCRIPTION:Live Music Daily from 6:00pm – 8:30pm \nAccompanied by Nightly Hula Show from 7:00pm – 8:00pm
URL:https://www.hulagrillkaanapali.com/event/live-music/2025-01-23/
LOCATION:Hula Grill Ka‘anapali\, 2435 Kaanapali Parkway\, Bldg. P1\, Lahaina\, HI\, 96761\, United States
CATEGORIES:Entertainment,Weekly Happenings
ATTACH;FMTTYPE=image/jpeg:https://www.hulagrillkaanapali.com/wp-content/uploads/2018/09/Hula-Grill-Aloha-Friday-1.jpg
END:VEVENT
BEGIN:VEVENT
DTSTART;TZID=Pacific/Honolulu:20250122T180000
DTEND;TZID=Pacific/Honolulu:20250122T203000
DTSTAMP:20260421T004733
CREATED:20221110T214057Z
LAST-MODIFIED:20221110T214057Z
UID:16726-1737568800-1737577800@www.hulagrillkaanapali.com
SUMMARY:Live Music Accompanied by Hula Show
DESCRIPTION:Live Music Daily from 6:00pm – 8:30pm \nAccompanied by Nightly Hula Show from 7:00pm – 8:00pm
URL:https://www.hulagrillkaanapali.com/event/live-music/2025-01-22/
LOCATION:Hula Grill Ka‘anapali\, 2435 Kaanapali Parkway\, Bldg. P1\, Lahaina\, HI\, 96761\, United States
CATEGORIES:Entertainment,Weekly Happenings
ATTACH;FMTTYPE=image/jpeg:https://www.hulagrillkaanapali.com/wp-content/uploads/2018/09/Hula-Grill-Aloha-Friday-1.jpg
END:VEVENT
BEGIN:VEVENT
DTSTART;TZID=Pacific/Honolulu:20250121T180000
DTEND;TZID=Pacific/Honolulu:20250121T203000
DTSTAMP:20260421T004733
CREATED:20221110T214057Z
LAST-MODIFIED:20221110T214057Z
UID:16725-1737482400-1737491400@www.hulagrillkaanapali.com
SUMMARY:Live Music Accompanied by Hula Show
DESCRIPTION:Live Music Daily from 6:00pm – 8:30pm \nAccompanied by Nightly Hula Show from 7:00pm – 8:00pm
URL:https://www.hulagrillkaanapali.com/event/live-music/2025-01-21/
LOCATION:Hula Grill Ka‘anapali\, 2435 Kaanapali Parkway\, Bldg. P1\, Lahaina\, HI\, 96761\, United States
CATEGORIES:Entertainment,Weekly Happenings
ATTACH;FMTTYPE=image/jpeg:https://www.hulagrillkaanapali.com/wp-content/uploads/2018/09/Hula-Grill-Aloha-Friday-1.jpg
END:VEVENT
END:VCALENDAR