BEGIN:VCALENDAR
VERSION:2.0
PRODID:-//Hula Grill Kaanapali - ECPv6.15.5//NONSGML v1.0//EN
CALSCALE:GREGORIAN
METHOD:PUBLISH
X-WR-CALNAME:Hula Grill Kaanapali
X-ORIGINAL-URL:https://www.hulagrillkaanapali.com
X-WR-CALDESC:Events for Hula Grill Kaanapali
REFRESH-INTERVAL;VALUE=DURATION:PT1H
X-Robots-Tag:noindex
X-PUBLISHED-TTL:PT1H
BEGIN:VTIMEZONE
TZID:Pacific/Honolulu
BEGIN:STANDARD
TZOFFSETFROM:-1000
TZOFFSETTO:-1000
TZNAME:HST
DTSTART:20240101T000000
END:STANDARD
END:VTIMEZONE
BEGIN:VEVENT
DTSTART;TZID=Pacific/Honolulu:20241021T180000
DTEND;TZID=Pacific/Honolulu:20241021T203000
DTSTAMP:20260420T053035
CREATED:20221110T214057Z
LAST-MODIFIED:20221110T214057Z
UID:16633-1729533600-1729542600@www.hulagrillkaanapali.com
SUMMARY:Live Music Accompanied by Hula Show
DESCRIPTION:Live Music Daily from 6:00pm – 8:30pm \nAccompanied by Nightly Hula Show from 7:00pm – 8:00pm
URL:https://www.hulagrillkaanapali.com/event/live-music/2024-10-21/
LOCATION:Hula Grill Ka‘anapali\, 2435 Kaanapali Parkway\, Bldg. P1\, Lahaina\, HI\, 96761\, United States
CATEGORIES:Entertainment,Weekly Happenings
ATTACH;FMTTYPE=image/jpeg:https://www.hulagrillkaanapali.com/wp-content/uploads/2018/09/Hula-Grill-Aloha-Friday-1.jpg
END:VEVENT
BEGIN:VEVENT
DTSTART;TZID=Pacific/Honolulu:20241020T180000
DTEND;TZID=Pacific/Honolulu:20241020T203000
DTSTAMP:20260420T053035
CREATED:20221110T214057Z
LAST-MODIFIED:20221110T214057Z
UID:16632-1729447200-1729456200@www.hulagrillkaanapali.com
SUMMARY:Live Music Accompanied by Hula Show
DESCRIPTION:Live Music Daily from 6:00pm – 8:30pm \nAccompanied by Nightly Hula Show from 7:00pm – 8:00pm
URL:https://www.hulagrillkaanapali.com/event/live-music/2024-10-20/
LOCATION:Hula Grill Ka‘anapali\, 2435 Kaanapali Parkway\, Bldg. P1\, Lahaina\, HI\, 96761\, United States
CATEGORIES:Entertainment,Weekly Happenings
ATTACH;FMTTYPE=image/jpeg:https://www.hulagrillkaanapali.com/wp-content/uploads/2018/09/Hula-Grill-Aloha-Friday-1.jpg
END:VEVENT
BEGIN:VEVENT
DTSTART;TZID=Pacific/Honolulu:20241019T180000
DTEND;TZID=Pacific/Honolulu:20241019T203000
DTSTAMP:20260420T053035
CREATED:20221110T214057Z
LAST-MODIFIED:20221110T214057Z
UID:16631-1729360800-1729369800@www.hulagrillkaanapali.com
SUMMARY:Live Music Accompanied by Hula Show
DESCRIPTION:Live Music Daily from 6:00pm – 8:30pm \nAccompanied by Nightly Hula Show from 7:00pm – 8:00pm
URL:https://www.hulagrillkaanapali.com/event/live-music/2024-10-19/
LOCATION:Hula Grill Ka‘anapali\, 2435 Kaanapali Parkway\, Bldg. P1\, Lahaina\, HI\, 96761\, United States
CATEGORIES:Entertainment,Weekly Happenings
ATTACH;FMTTYPE=image/jpeg:https://www.hulagrillkaanapali.com/wp-content/uploads/2018/09/Hula-Grill-Aloha-Friday-1.jpg
END:VEVENT
BEGIN:VEVENT
DTSTART;TZID=Pacific/Honolulu:20241018T180000
DTEND;TZID=Pacific/Honolulu:20241018T203000
DTSTAMP:20260420T053035
CREATED:20221110T214057Z
LAST-MODIFIED:20221110T214057Z
UID:16630-1729274400-1729283400@www.hulagrillkaanapali.com
SUMMARY:Live Music Accompanied by Hula Show
DESCRIPTION:Live Music Daily from 6:00pm – 8:30pm \nAccompanied by Nightly Hula Show from 7:00pm – 8:00pm
URL:https://www.hulagrillkaanapali.com/event/live-music/2024-10-18/
LOCATION:Hula Grill Ka‘anapali\, 2435 Kaanapali Parkway\, Bldg. P1\, Lahaina\, HI\, 96761\, United States
CATEGORIES:Entertainment,Weekly Happenings
ATTACH;FMTTYPE=image/jpeg:https://www.hulagrillkaanapali.com/wp-content/uploads/2018/09/Hula-Grill-Aloha-Friday-1.jpg
END:VEVENT
BEGIN:VEVENT
DTSTART;TZID=Pacific/Honolulu:20241017T180000
DTEND;TZID=Pacific/Honolulu:20241017T203000
DTSTAMP:20260420T053035
CREATED:20221110T214057Z
LAST-MODIFIED:20221110T214057Z
UID:16629-1729188000-1729197000@www.hulagrillkaanapali.com
SUMMARY:Live Music Accompanied by Hula Show
DESCRIPTION:Live Music Daily from 6:00pm – 8:30pm \nAccompanied by Nightly Hula Show from 7:00pm – 8:00pm
URL:https://www.hulagrillkaanapali.com/event/live-music/2024-10-17/
LOCATION:Hula Grill Ka‘anapali\, 2435 Kaanapali Parkway\, Bldg. P1\, Lahaina\, HI\, 96761\, United States
CATEGORIES:Entertainment,Weekly Happenings
ATTACH;FMTTYPE=image/jpeg:https://www.hulagrillkaanapali.com/wp-content/uploads/2018/09/Hula-Grill-Aloha-Friday-1.jpg
END:VEVENT
BEGIN:VEVENT
DTSTART;TZID=Pacific/Honolulu:20241016T180000
DTEND;TZID=Pacific/Honolulu:20241016T203000
DTSTAMP:20260420T053035
CREATED:20221110T214057Z
LAST-MODIFIED:20221110T214057Z
UID:16628-1729101600-1729110600@www.hulagrillkaanapali.com
SUMMARY:Live Music Accompanied by Hula Show
DESCRIPTION:Live Music Daily from 6:00pm – 8:30pm \nAccompanied by Nightly Hula Show from 7:00pm – 8:00pm
URL:https://www.hulagrillkaanapali.com/event/live-music/2024-10-16/
LOCATION:Hula Grill Ka‘anapali\, 2435 Kaanapali Parkway\, Bldg. P1\, Lahaina\, HI\, 96761\, United States
CATEGORIES:Entertainment,Weekly Happenings
ATTACH;FMTTYPE=image/jpeg:https://www.hulagrillkaanapali.com/wp-content/uploads/2018/09/Hula-Grill-Aloha-Friday-1.jpg
END:VEVENT
BEGIN:VEVENT
DTSTART;TZID=Pacific/Honolulu:20241015T180000
DTEND;TZID=Pacific/Honolulu:20241015T203000
DTSTAMP:20260420T053035
CREATED:20221110T214057Z
LAST-MODIFIED:20221110T214057Z
UID:16627-1729015200-1729024200@www.hulagrillkaanapali.com
SUMMARY:Live Music Accompanied by Hula Show
DESCRIPTION:Live Music Daily from 6:00pm – 8:30pm \nAccompanied by Nightly Hula Show from 7:00pm – 8:00pm
URL:https://www.hulagrillkaanapali.com/event/live-music/2024-10-15/
LOCATION:Hula Grill Ka‘anapali\, 2435 Kaanapali Parkway\, Bldg. P1\, Lahaina\, HI\, 96761\, United States
CATEGORIES:Entertainment,Weekly Happenings
ATTACH;FMTTYPE=image/jpeg:https://www.hulagrillkaanapali.com/wp-content/uploads/2018/09/Hula-Grill-Aloha-Friday-1.jpg
END:VEVENT
BEGIN:VEVENT
DTSTART;TZID=Pacific/Honolulu:20241014T180000
DTEND;TZID=Pacific/Honolulu:20241014T203000
DTSTAMP:20260420T053035
CREATED:20221110T214057Z
LAST-MODIFIED:20221110T214057Z
UID:16626-1728928800-1728937800@www.hulagrillkaanapali.com
SUMMARY:Live Music Accompanied by Hula Show
DESCRIPTION:Live Music Daily from 6:00pm – 8:30pm \nAccompanied by Nightly Hula Show from 7:00pm – 8:00pm
URL:https://www.hulagrillkaanapali.com/event/live-music/2024-10-14/
LOCATION:Hula Grill Ka‘anapali\, 2435 Kaanapali Parkway\, Bldg. P1\, Lahaina\, HI\, 96761\, United States
CATEGORIES:Entertainment,Weekly Happenings
ATTACH;FMTTYPE=image/jpeg:https://www.hulagrillkaanapali.com/wp-content/uploads/2018/09/Hula-Grill-Aloha-Friday-1.jpg
END:VEVENT
BEGIN:VEVENT
DTSTART;TZID=Pacific/Honolulu:20241013T180000
DTEND;TZID=Pacific/Honolulu:20241013T203000
DTSTAMP:20260420T053035
CREATED:20221110T214057Z
LAST-MODIFIED:20221110T214057Z
UID:16625-1728842400-1728851400@www.hulagrillkaanapali.com
SUMMARY:Live Music Accompanied by Hula Show
DESCRIPTION:Live Music Daily from 6:00pm – 8:30pm \nAccompanied by Nightly Hula Show from 7:00pm – 8:00pm
URL:https://www.hulagrillkaanapali.com/event/live-music/2024-10-13/
LOCATION:Hula Grill Ka‘anapali\, 2435 Kaanapali Parkway\, Bldg. P1\, Lahaina\, HI\, 96761\, United States
CATEGORIES:Entertainment,Weekly Happenings
ATTACH;FMTTYPE=image/jpeg:https://www.hulagrillkaanapali.com/wp-content/uploads/2018/09/Hula-Grill-Aloha-Friday-1.jpg
END:VEVENT
BEGIN:VEVENT
DTSTART;TZID=Pacific/Honolulu:20241012T180000
DTEND;TZID=Pacific/Honolulu:20241012T203000
DTSTAMP:20260420T053035
CREATED:20221110T214057Z
LAST-MODIFIED:20221110T214057Z
UID:16624-1728756000-1728765000@www.hulagrillkaanapali.com
SUMMARY:Live Music Accompanied by Hula Show
DESCRIPTION:Live Music Daily from 6:00pm – 8:30pm \nAccompanied by Nightly Hula Show from 7:00pm – 8:00pm
URL:https://www.hulagrillkaanapali.com/event/live-music/2024-10-12/
LOCATION:Hula Grill Ka‘anapali\, 2435 Kaanapali Parkway\, Bldg. P1\, Lahaina\, HI\, 96761\, United States
CATEGORIES:Entertainment,Weekly Happenings
ATTACH;FMTTYPE=image/jpeg:https://www.hulagrillkaanapali.com/wp-content/uploads/2018/09/Hula-Grill-Aloha-Friday-1.jpg
END:VEVENT
BEGIN:VEVENT
DTSTART;TZID=Pacific/Honolulu:20241011T180000
DTEND;TZID=Pacific/Honolulu:20241011T203000
DTSTAMP:20260420T053035
CREATED:20221110T214057Z
LAST-MODIFIED:20221110T214057Z
UID:16623-1728669600-1728678600@www.hulagrillkaanapali.com
SUMMARY:Live Music Accompanied by Hula Show
DESCRIPTION:Live Music Daily from 6:00pm – 8:30pm \nAccompanied by Nightly Hula Show from 7:00pm – 8:00pm
URL:https://www.hulagrillkaanapali.com/event/live-music/2024-10-11/
LOCATION:Hula Grill Ka‘anapali\, 2435 Kaanapali Parkway\, Bldg. P1\, Lahaina\, HI\, 96761\, United States
CATEGORIES:Entertainment,Weekly Happenings
ATTACH;FMTTYPE=image/jpeg:https://www.hulagrillkaanapali.com/wp-content/uploads/2018/09/Hula-Grill-Aloha-Friday-1.jpg
END:VEVENT
BEGIN:VEVENT
DTSTART;TZID=Pacific/Honolulu:20241010T180000
DTEND;TZID=Pacific/Honolulu:20241010T203000
DTSTAMP:20260420T053035
CREATED:20221110T214057Z
LAST-MODIFIED:20221110T214057Z
UID:16622-1728583200-1728592200@www.hulagrillkaanapali.com
SUMMARY:Live Music Accompanied by Hula Show
DESCRIPTION:Live Music Daily from 6:00pm – 8:30pm \nAccompanied by Nightly Hula Show from 7:00pm – 8:00pm
URL:https://www.hulagrillkaanapali.com/event/live-music/2024-10-10/
LOCATION:Hula Grill Ka‘anapali\, 2435 Kaanapali Parkway\, Bldg. P1\, Lahaina\, HI\, 96761\, United States
CATEGORIES:Entertainment,Weekly Happenings
ATTACH;FMTTYPE=image/jpeg:https://www.hulagrillkaanapali.com/wp-content/uploads/2018/09/Hula-Grill-Aloha-Friday-1.jpg
END:VEVENT
BEGIN:VEVENT
DTSTART;TZID=Pacific/Honolulu:20241009T180000
DTEND;TZID=Pacific/Honolulu:20241009T203000
DTSTAMP:20260420T053035
CREATED:20221110T214057Z
LAST-MODIFIED:20221110T214057Z
UID:16621-1728496800-1728505800@www.hulagrillkaanapali.com
SUMMARY:Live Music Accompanied by Hula Show
DESCRIPTION:Live Music Daily from 6:00pm – 8:30pm \nAccompanied by Nightly Hula Show from 7:00pm – 8:00pm
URL:https://www.hulagrillkaanapali.com/event/live-music/2024-10-09/
LOCATION:Hula Grill Ka‘anapali\, 2435 Kaanapali Parkway\, Bldg. P1\, Lahaina\, HI\, 96761\, United States
CATEGORIES:Entertainment,Weekly Happenings
ATTACH;FMTTYPE=image/jpeg:https://www.hulagrillkaanapali.com/wp-content/uploads/2018/09/Hula-Grill-Aloha-Friday-1.jpg
END:VEVENT
BEGIN:VEVENT
DTSTART;TZID=Pacific/Honolulu:20241008T180000
DTEND;TZID=Pacific/Honolulu:20241008T203000
DTSTAMP:20260420T053035
CREATED:20221110T214057Z
LAST-MODIFIED:20221110T214057Z
UID:16620-1728410400-1728419400@www.hulagrillkaanapali.com
SUMMARY:Live Music Accompanied by Hula Show
DESCRIPTION:Live Music Daily from 6:00pm – 8:30pm \nAccompanied by Nightly Hula Show from 7:00pm – 8:00pm
URL:https://www.hulagrillkaanapali.com/event/live-music/2024-10-08/
LOCATION:Hula Grill Ka‘anapali\, 2435 Kaanapali Parkway\, Bldg. P1\, Lahaina\, HI\, 96761\, United States
CATEGORIES:Entertainment,Weekly Happenings
ATTACH;FMTTYPE=image/jpeg:https://www.hulagrillkaanapali.com/wp-content/uploads/2018/09/Hula-Grill-Aloha-Friday-1.jpg
END:VEVENT
BEGIN:VEVENT
DTSTART;TZID=Pacific/Honolulu:20241007T180000
DTEND;TZID=Pacific/Honolulu:20241007T203000
DTSTAMP:20260420T053035
CREATED:20221110T214057Z
LAST-MODIFIED:20221110T214057Z
UID:16619-1728324000-1728333000@www.hulagrillkaanapali.com
SUMMARY:Live Music Accompanied by Hula Show
DESCRIPTION:Live Music Daily from 6:00pm – 8:30pm \nAccompanied by Nightly Hula Show from 7:00pm – 8:00pm
URL:https://www.hulagrillkaanapali.com/event/live-music/2024-10-07/
LOCATION:Hula Grill Ka‘anapali\, 2435 Kaanapali Parkway\, Bldg. P1\, Lahaina\, HI\, 96761\, United States
CATEGORIES:Entertainment,Weekly Happenings
ATTACH;FMTTYPE=image/jpeg:https://www.hulagrillkaanapali.com/wp-content/uploads/2018/09/Hula-Grill-Aloha-Friday-1.jpg
END:VEVENT
BEGIN:VEVENT
DTSTART;TZID=Pacific/Honolulu:20241006T180000
DTEND;TZID=Pacific/Honolulu:20241006T203000
DTSTAMP:20260420T053035
CREATED:20221110T214057Z
LAST-MODIFIED:20221110T214057Z
UID:16618-1728237600-1728246600@www.hulagrillkaanapali.com
SUMMARY:Live Music Accompanied by Hula Show
DESCRIPTION:Live Music Daily from 6:00pm – 8:30pm \nAccompanied by Nightly Hula Show from 7:00pm – 8:00pm
URL:https://www.hulagrillkaanapali.com/event/live-music/2024-10-06/
LOCATION:Hula Grill Ka‘anapali\, 2435 Kaanapali Parkway\, Bldg. P1\, Lahaina\, HI\, 96761\, United States
CATEGORIES:Entertainment,Weekly Happenings
ATTACH;FMTTYPE=image/jpeg:https://www.hulagrillkaanapali.com/wp-content/uploads/2018/09/Hula-Grill-Aloha-Friday-1.jpg
END:VEVENT
BEGIN:VEVENT
DTSTART;TZID=Pacific/Honolulu:20241005T180000
DTEND;TZID=Pacific/Honolulu:20241005T203000
DTSTAMP:20260420T053035
CREATED:20221110T214057Z
LAST-MODIFIED:20221110T214057Z
UID:16617-1728151200-1728160200@www.hulagrillkaanapali.com
SUMMARY:Live Music Accompanied by Hula Show
DESCRIPTION:Live Music Daily from 6:00pm – 8:30pm \nAccompanied by Nightly Hula Show from 7:00pm – 8:00pm
URL:https://www.hulagrillkaanapali.com/event/live-music/2024-10-05/
LOCATION:Hula Grill Ka‘anapali\, 2435 Kaanapali Parkway\, Bldg. P1\, Lahaina\, HI\, 96761\, United States
CATEGORIES:Entertainment,Weekly Happenings
ATTACH;FMTTYPE=image/jpeg:https://www.hulagrillkaanapali.com/wp-content/uploads/2018/09/Hula-Grill-Aloha-Friday-1.jpg
END:VEVENT
BEGIN:VEVENT
DTSTART;TZID=Pacific/Honolulu:20241004T180000
DTEND;TZID=Pacific/Honolulu:20241004T203000
DTSTAMP:20260420T053035
CREATED:20221110T214057Z
LAST-MODIFIED:20221110T214057Z
UID:16616-1728064800-1728073800@www.hulagrillkaanapali.com
SUMMARY:Live Music Accompanied by Hula Show
DESCRIPTION:Live Music Daily from 6:00pm – 8:30pm \nAccompanied by Nightly Hula Show from 7:00pm – 8:00pm
URL:https://www.hulagrillkaanapali.com/event/live-music/2024-10-04/
LOCATION:Hula Grill Ka‘anapali\, 2435 Kaanapali Parkway\, Bldg. P1\, Lahaina\, HI\, 96761\, United States
CATEGORIES:Entertainment,Weekly Happenings
ATTACH;FMTTYPE=image/jpeg:https://www.hulagrillkaanapali.com/wp-content/uploads/2018/09/Hula-Grill-Aloha-Friday-1.jpg
END:VEVENT
BEGIN:VEVENT
DTSTART;TZID=Pacific/Honolulu:20241003T180000
DTEND;TZID=Pacific/Honolulu:20241003T203000
DTSTAMP:20260420T053035
CREATED:20221110T214057Z
LAST-MODIFIED:20221110T214057Z
UID:16615-1727978400-1727987400@www.hulagrillkaanapali.com
SUMMARY:Live Music Accompanied by Hula Show
DESCRIPTION:Live Music Daily from 6:00pm – 8:30pm \nAccompanied by Nightly Hula Show from 7:00pm – 8:00pm
URL:https://www.hulagrillkaanapali.com/event/live-music/2024-10-03/
LOCATION:Hula Grill Ka‘anapali\, 2435 Kaanapali Parkway\, Bldg. P1\, Lahaina\, HI\, 96761\, United States
CATEGORIES:Entertainment,Weekly Happenings
ATTACH;FMTTYPE=image/jpeg:https://www.hulagrillkaanapali.com/wp-content/uploads/2018/09/Hula-Grill-Aloha-Friday-1.jpg
END:VEVENT
BEGIN:VEVENT
DTSTART;TZID=Pacific/Honolulu:20241002T180000
DTEND;TZID=Pacific/Honolulu:20241002T203000
DTSTAMP:20260420T053035
CREATED:20221110T214057Z
LAST-MODIFIED:20221110T214057Z
UID:16614-1727892000-1727901000@www.hulagrillkaanapali.com
SUMMARY:Live Music Accompanied by Hula Show
DESCRIPTION:Live Music Daily from 6:00pm – 8:30pm \nAccompanied by Nightly Hula Show from 7:00pm – 8:00pm
URL:https://www.hulagrillkaanapali.com/event/live-music/2024-10-02/
LOCATION:Hula Grill Ka‘anapali\, 2435 Kaanapali Parkway\, Bldg. P1\, Lahaina\, HI\, 96761\, United States
CATEGORIES:Entertainment,Weekly Happenings
ATTACH;FMTTYPE=image/jpeg:https://www.hulagrillkaanapali.com/wp-content/uploads/2018/09/Hula-Grill-Aloha-Friday-1.jpg
END:VEVENT
BEGIN:VEVENT
DTSTART;TZID=Pacific/Honolulu:20241001T180000
DTEND;TZID=Pacific/Honolulu:20241001T203000
DTSTAMP:20260420T053035
CREATED:20221110T214057Z
LAST-MODIFIED:20221110T214057Z
UID:16613-1727805600-1727814600@www.hulagrillkaanapali.com
SUMMARY:Live Music Accompanied by Hula Show
DESCRIPTION:Live Music Daily from 6:00pm – 8:30pm \nAccompanied by Nightly Hula Show from 7:00pm – 8:00pm
URL:https://www.hulagrillkaanapali.com/event/live-music/2024-10-01/
LOCATION:Hula Grill Ka‘anapali\, 2435 Kaanapali Parkway\, Bldg. P1\, Lahaina\, HI\, 96761\, United States
CATEGORIES:Entertainment,Weekly Happenings
ATTACH;FMTTYPE=image/jpeg:https://www.hulagrillkaanapali.com/wp-content/uploads/2018/09/Hula-Grill-Aloha-Friday-1.jpg
END:VEVENT
BEGIN:VEVENT
DTSTART;TZID=Pacific/Honolulu:20240930T180000
DTEND;TZID=Pacific/Honolulu:20240930T203000
DTSTAMP:20260420T053035
CREATED:20221110T214057Z
LAST-MODIFIED:20221110T214057Z
UID:16612-1727719200-1727728200@www.hulagrillkaanapali.com
SUMMARY:Live Music Accompanied by Hula Show
DESCRIPTION:Live Music Daily from 6:00pm – 8:30pm \nAccompanied by Nightly Hula Show from 7:00pm – 8:00pm
URL:https://www.hulagrillkaanapali.com/event/live-music/2024-09-30/
LOCATION:Hula Grill Ka‘anapali\, 2435 Kaanapali Parkway\, Bldg. P1\, Lahaina\, HI\, 96761\, United States
CATEGORIES:Entertainment,Weekly Happenings
ATTACH;FMTTYPE=image/jpeg:https://www.hulagrillkaanapali.com/wp-content/uploads/2018/09/Hula-Grill-Aloha-Friday-1.jpg
END:VEVENT
BEGIN:VEVENT
DTSTART;TZID=Pacific/Honolulu:20240929T180000
DTEND;TZID=Pacific/Honolulu:20240929T203000
DTSTAMP:20260420T053035
CREATED:20221110T214057Z
LAST-MODIFIED:20221110T214057Z
UID:16611-1727632800-1727641800@www.hulagrillkaanapali.com
SUMMARY:Live Music Accompanied by Hula Show
DESCRIPTION:Live Music Daily from 6:00pm – 8:30pm \nAccompanied by Nightly Hula Show from 7:00pm – 8:00pm
URL:https://www.hulagrillkaanapali.com/event/live-music/2024-09-29/
LOCATION:Hula Grill Ka‘anapali\, 2435 Kaanapali Parkway\, Bldg. P1\, Lahaina\, HI\, 96761\, United States
CATEGORIES:Entertainment,Weekly Happenings
ATTACH;FMTTYPE=image/jpeg:https://www.hulagrillkaanapali.com/wp-content/uploads/2018/09/Hula-Grill-Aloha-Friday-1.jpg
END:VEVENT
BEGIN:VEVENT
DTSTART;TZID=Pacific/Honolulu:20240928T180000
DTEND;TZID=Pacific/Honolulu:20240928T203000
DTSTAMP:20260420T053035
CREATED:20221110T214057Z
LAST-MODIFIED:20221110T214057Z
UID:16610-1727546400-1727555400@www.hulagrillkaanapali.com
SUMMARY:Live Music Accompanied by Hula Show
DESCRIPTION:Live Music Daily from 6:00pm – 8:30pm \nAccompanied by Nightly Hula Show from 7:00pm – 8:00pm
URL:https://www.hulagrillkaanapali.com/event/live-music/2024-09-28/
LOCATION:Hula Grill Ka‘anapali\, 2435 Kaanapali Parkway\, Bldg. P1\, Lahaina\, HI\, 96761\, United States
CATEGORIES:Entertainment,Weekly Happenings
ATTACH;FMTTYPE=image/jpeg:https://www.hulagrillkaanapali.com/wp-content/uploads/2018/09/Hula-Grill-Aloha-Friday-1.jpg
END:VEVENT
BEGIN:VEVENT
DTSTART;TZID=Pacific/Honolulu:20240927T180000
DTEND;TZID=Pacific/Honolulu:20240927T203000
DTSTAMP:20260420T053035
CREATED:20221110T214057Z
LAST-MODIFIED:20221110T214057Z
UID:16609-1727460000-1727469000@www.hulagrillkaanapali.com
SUMMARY:Live Music Accompanied by Hula Show
DESCRIPTION:Live Music Daily from 6:00pm – 8:30pm \nAccompanied by Nightly Hula Show from 7:00pm – 8:00pm
URL:https://www.hulagrillkaanapali.com/event/live-music/2024-09-27/
LOCATION:Hula Grill Ka‘anapali\, 2435 Kaanapali Parkway\, Bldg. P1\, Lahaina\, HI\, 96761\, United States
CATEGORIES:Entertainment,Weekly Happenings
ATTACH;FMTTYPE=image/jpeg:https://www.hulagrillkaanapali.com/wp-content/uploads/2018/09/Hula-Grill-Aloha-Friday-1.jpg
END:VEVENT
BEGIN:VEVENT
DTSTART;TZID=Pacific/Honolulu:20240926T180000
DTEND;TZID=Pacific/Honolulu:20240926T203000
DTSTAMP:20260420T053035
CREATED:20221110T214057Z
LAST-MODIFIED:20221110T214057Z
UID:16608-1727373600-1727382600@www.hulagrillkaanapali.com
SUMMARY:Live Music Accompanied by Hula Show
DESCRIPTION:Live Music Daily from 6:00pm – 8:30pm \nAccompanied by Nightly Hula Show from 7:00pm – 8:00pm
URL:https://www.hulagrillkaanapali.com/event/live-music/2024-09-26/
LOCATION:Hula Grill Ka‘anapali\, 2435 Kaanapali Parkway\, Bldg. P1\, Lahaina\, HI\, 96761\, United States
CATEGORIES:Entertainment,Weekly Happenings
ATTACH;FMTTYPE=image/jpeg:https://www.hulagrillkaanapali.com/wp-content/uploads/2018/09/Hula-Grill-Aloha-Friday-1.jpg
END:VEVENT
BEGIN:VEVENT
DTSTART;TZID=Pacific/Honolulu:20240925T180000
DTEND;TZID=Pacific/Honolulu:20240925T203000
DTSTAMP:20260420T053035
CREATED:20221110T214057Z
LAST-MODIFIED:20221110T214057Z
UID:16607-1727287200-1727296200@www.hulagrillkaanapali.com
SUMMARY:Live Music Accompanied by Hula Show
DESCRIPTION:Live Music Daily from 6:00pm – 8:30pm \nAccompanied by Nightly Hula Show from 7:00pm – 8:00pm
URL:https://www.hulagrillkaanapali.com/event/live-music/2024-09-25/
LOCATION:Hula Grill Ka‘anapali\, 2435 Kaanapali Parkway\, Bldg. P1\, Lahaina\, HI\, 96761\, United States
CATEGORIES:Entertainment,Weekly Happenings
ATTACH;FMTTYPE=image/jpeg:https://www.hulagrillkaanapali.com/wp-content/uploads/2018/09/Hula-Grill-Aloha-Friday-1.jpg
END:VEVENT
BEGIN:VEVENT
DTSTART;TZID=Pacific/Honolulu:20240924T180000
DTEND;TZID=Pacific/Honolulu:20240924T203000
DTSTAMP:20260420T053035
CREATED:20221110T214057Z
LAST-MODIFIED:20221110T214057Z
UID:16606-1727200800-1727209800@www.hulagrillkaanapali.com
SUMMARY:Live Music Accompanied by Hula Show
DESCRIPTION:Live Music Daily from 6:00pm – 8:30pm \nAccompanied by Nightly Hula Show from 7:00pm – 8:00pm
URL:https://www.hulagrillkaanapali.com/event/live-music/2024-09-24/
LOCATION:Hula Grill Ka‘anapali\, 2435 Kaanapali Parkway\, Bldg. P1\, Lahaina\, HI\, 96761\, United States
CATEGORIES:Entertainment,Weekly Happenings
ATTACH;FMTTYPE=image/jpeg:https://www.hulagrillkaanapali.com/wp-content/uploads/2018/09/Hula-Grill-Aloha-Friday-1.jpg
END:VEVENT
BEGIN:VEVENT
DTSTART;TZID=Pacific/Honolulu:20240923T180000
DTEND;TZID=Pacific/Honolulu:20240923T203000
DTSTAMP:20260420T053035
CREATED:20221110T214057Z
LAST-MODIFIED:20221110T214057Z
UID:16605-1727114400-1727123400@www.hulagrillkaanapali.com
SUMMARY:Live Music Accompanied by Hula Show
DESCRIPTION:Live Music Daily from 6:00pm – 8:30pm \nAccompanied by Nightly Hula Show from 7:00pm – 8:00pm
URL:https://www.hulagrillkaanapali.com/event/live-music/2024-09-23/
LOCATION:Hula Grill Ka‘anapali\, 2435 Kaanapali Parkway\, Bldg. P1\, Lahaina\, HI\, 96761\, United States
CATEGORIES:Entertainment,Weekly Happenings
ATTACH;FMTTYPE=image/jpeg:https://www.hulagrillkaanapali.com/wp-content/uploads/2018/09/Hula-Grill-Aloha-Friday-1.jpg
END:VEVENT
BEGIN:VEVENT
DTSTART;TZID=Pacific/Honolulu:20240922T180000
DTEND;TZID=Pacific/Honolulu:20240922T203000
DTSTAMP:20260420T053035
CREATED:20221110T214057Z
LAST-MODIFIED:20221110T214057Z
UID:16604-1727028000-1727037000@www.hulagrillkaanapali.com
SUMMARY:Live Music Accompanied by Hula Show
DESCRIPTION:Live Music Daily from 6:00pm – 8:30pm \nAccompanied by Nightly Hula Show from 7:00pm – 8:00pm
URL:https://www.hulagrillkaanapali.com/event/live-music/2024-09-22/
LOCATION:Hula Grill Ka‘anapali\, 2435 Kaanapali Parkway\, Bldg. P1\, Lahaina\, HI\, 96761\, United States
CATEGORIES:Entertainment,Weekly Happenings
ATTACH;FMTTYPE=image/jpeg:https://www.hulagrillkaanapali.com/wp-content/uploads/2018/09/Hula-Grill-Aloha-Friday-1.jpg
END:VEVENT
END:VCALENDAR