BEGIN:VCALENDAR
VERSION:2.0
PRODID:-//Hula Grill Kaanapali - ECPv6.15.5//NONSGML v1.0//EN
CALSCALE:GREGORIAN
METHOD:PUBLISH
X-ORIGINAL-URL:https://www.hulagrillkaanapali.com
X-WR-CALDESC:Events for Hula Grill Kaanapali
REFRESH-INTERVAL;VALUE=DURATION:PT1H
X-Robots-Tag:noindex
X-PUBLISHED-TTL:PT1H
BEGIN:VTIMEZONE
TZID:Pacific/Honolulu
BEGIN:STANDARD
TZOFFSETFROM:-1000
TZOFFSETTO:-1000
TZNAME:HST
DTSTART:20250101T000000
END:STANDARD
END:VTIMEZONE
BEGIN:VEVENT
DTSTART;TZID=Pacific/Honolulu:20250809T180000
DTEND;TZID=Pacific/Honolulu:20250809T203000
DTSTAMP:20260421T155744
CREATED:20221110T214057Z
LAST-MODIFIED:20221110T214057Z
UID:16925-1754762400-1754771400@www.hulagrillkaanapali.com
SUMMARY:Live Music Accompanied by Hula Show
DESCRIPTION:Live Music Daily from 6:00pm – 8:30pm \nAccompanied by Nightly Hula Show from 7:00pm – 8:00pm
URL:https://www.hulagrillkaanapali.com/event/live-music/2025-08-09/
LOCATION:Hula Grill Ka‘anapali\, 2435 Kaanapali Parkway\, Bldg. P1\, Lahaina\, HI\, 96761\, United States
CATEGORIES:Entertainment,Weekly Happenings
ATTACH;FMTTYPE=image/jpeg:https://www.hulagrillkaanapali.com/wp-content/uploads/2018/09/Hula-Grill-Aloha-Friday-1.jpg
END:VEVENT
BEGIN:VEVENT
DTSTART;TZID=Pacific/Honolulu:20250810T180000
DTEND;TZID=Pacific/Honolulu:20250810T203000
DTSTAMP:20260421T155744
CREATED:20221110T214057Z
LAST-MODIFIED:20221110T214057Z
UID:16926-1754848800-1754857800@www.hulagrillkaanapali.com
SUMMARY:Live Music Accompanied by Hula Show
DESCRIPTION:Live Music Daily from 6:00pm – 8:30pm \nAccompanied by Nightly Hula Show from 7:00pm – 8:00pm
URL:https://www.hulagrillkaanapali.com/event/live-music/2025-08-10/
LOCATION:Hula Grill Ka‘anapali\, 2435 Kaanapali Parkway\, Bldg. P1\, Lahaina\, HI\, 96761\, United States
CATEGORIES:Entertainment,Weekly Happenings
ATTACH;FMTTYPE=image/jpeg:https://www.hulagrillkaanapali.com/wp-content/uploads/2018/09/Hula-Grill-Aloha-Friday-1.jpg
END:VEVENT
BEGIN:VEVENT
DTSTART;TZID=Pacific/Honolulu:20250811T180000
DTEND;TZID=Pacific/Honolulu:20250811T203000
DTSTAMP:20260421T155744
CREATED:20221110T214057Z
LAST-MODIFIED:20221110T214057Z
UID:16927-1754935200-1754944200@www.hulagrillkaanapali.com
SUMMARY:Live Music Accompanied by Hula Show
DESCRIPTION:Live Music Daily from 6:00pm – 8:30pm \nAccompanied by Nightly Hula Show from 7:00pm – 8:00pm
URL:https://www.hulagrillkaanapali.com/event/live-music/2025-08-11/
LOCATION:Hula Grill Ka‘anapali\, 2435 Kaanapali Parkway\, Bldg. P1\, Lahaina\, HI\, 96761\, United States
CATEGORIES:Entertainment,Weekly Happenings
ATTACH;FMTTYPE=image/jpeg:https://www.hulagrillkaanapali.com/wp-content/uploads/2018/09/Hula-Grill-Aloha-Friday-1.jpg
END:VEVENT
BEGIN:VEVENT
DTSTART;TZID=Pacific/Honolulu:20250812T180000
DTEND;TZID=Pacific/Honolulu:20250812T203000
DTSTAMP:20260421T155744
CREATED:20221110T214057Z
LAST-MODIFIED:20221110T214057Z
UID:16928-1755021600-1755030600@www.hulagrillkaanapali.com
SUMMARY:Live Music Accompanied by Hula Show
DESCRIPTION:Live Music Daily from 6:00pm – 8:30pm \nAccompanied by Nightly Hula Show from 7:00pm – 8:00pm
URL:https://www.hulagrillkaanapali.com/event/live-music/2025-08-12/
LOCATION:Hula Grill Ka‘anapali\, 2435 Kaanapali Parkway\, Bldg. P1\, Lahaina\, HI\, 96761\, United States
CATEGORIES:Entertainment,Weekly Happenings
ATTACH;FMTTYPE=image/jpeg:https://www.hulagrillkaanapali.com/wp-content/uploads/2018/09/Hula-Grill-Aloha-Friday-1.jpg
END:VEVENT
BEGIN:VEVENT
DTSTART;TZID=Pacific/Honolulu:20250813T180000
DTEND;TZID=Pacific/Honolulu:20250813T203000
DTSTAMP:20260421T155744
CREATED:20221110T214057Z
LAST-MODIFIED:20221110T214057Z
UID:16929-1755108000-1755117000@www.hulagrillkaanapali.com
SUMMARY:Live Music Accompanied by Hula Show
DESCRIPTION:Live Music Daily from 6:00pm – 8:30pm \nAccompanied by Nightly Hula Show from 7:00pm – 8:00pm
URL:https://www.hulagrillkaanapali.com/event/live-music/2025-08-13/
LOCATION:Hula Grill Ka‘anapali\, 2435 Kaanapali Parkway\, Bldg. P1\, Lahaina\, HI\, 96761\, United States
CATEGORIES:Entertainment,Weekly Happenings
ATTACH;FMTTYPE=image/jpeg:https://www.hulagrillkaanapali.com/wp-content/uploads/2018/09/Hula-Grill-Aloha-Friday-1.jpg
END:VEVENT
BEGIN:VEVENT
DTSTART;TZID=Pacific/Honolulu:20250814T180000
DTEND;TZID=Pacific/Honolulu:20250814T203000
DTSTAMP:20260421T155744
CREATED:20221110T214057Z
LAST-MODIFIED:20221110T214057Z
UID:16930-1755194400-1755203400@www.hulagrillkaanapali.com
SUMMARY:Live Music Accompanied by Hula Show
DESCRIPTION:Live Music Daily from 6:00pm – 8:30pm \nAccompanied by Nightly Hula Show from 7:00pm – 8:00pm
URL:https://www.hulagrillkaanapali.com/event/live-music/2025-08-14/
LOCATION:Hula Grill Ka‘anapali\, 2435 Kaanapali Parkway\, Bldg. P1\, Lahaina\, HI\, 96761\, United States
CATEGORIES:Entertainment,Weekly Happenings
ATTACH;FMTTYPE=image/jpeg:https://www.hulagrillkaanapali.com/wp-content/uploads/2018/09/Hula-Grill-Aloha-Friday-1.jpg
END:VEVENT
BEGIN:VEVENT
DTSTART;TZID=Pacific/Honolulu:20250815T180000
DTEND;TZID=Pacific/Honolulu:20250815T203000
DTSTAMP:20260421T155744
CREATED:20221110T214057Z
LAST-MODIFIED:20221110T214057Z
UID:16931-1755280800-1755289800@www.hulagrillkaanapali.com
SUMMARY:Live Music Accompanied by Hula Show
DESCRIPTION:Live Music Daily from 6:00pm – 8:30pm \nAccompanied by Nightly Hula Show from 7:00pm – 8:00pm
URL:https://www.hulagrillkaanapali.com/event/live-music/2025-08-15/
LOCATION:Hula Grill Ka‘anapali\, 2435 Kaanapali Parkway\, Bldg. P1\, Lahaina\, HI\, 96761\, United States
CATEGORIES:Entertainment,Weekly Happenings
ATTACH;FMTTYPE=image/jpeg:https://www.hulagrillkaanapali.com/wp-content/uploads/2018/09/Hula-Grill-Aloha-Friday-1.jpg
END:VEVENT
BEGIN:VEVENT
DTSTART;TZID=Pacific/Honolulu:20250816T180000
DTEND;TZID=Pacific/Honolulu:20250816T203000
DTSTAMP:20260421T155744
CREATED:20221110T214057Z
LAST-MODIFIED:20221110T214057Z
UID:16932-1755367200-1755376200@www.hulagrillkaanapali.com
SUMMARY:Live Music Accompanied by Hula Show
DESCRIPTION:Live Music Daily from 6:00pm – 8:30pm \nAccompanied by Nightly Hula Show from 7:00pm – 8:00pm
URL:https://www.hulagrillkaanapali.com/event/live-music/2025-08-16/
LOCATION:Hula Grill Ka‘anapali\, 2435 Kaanapali Parkway\, Bldg. P1\, Lahaina\, HI\, 96761\, United States
CATEGORIES:Entertainment,Weekly Happenings
ATTACH;FMTTYPE=image/jpeg:https://www.hulagrillkaanapali.com/wp-content/uploads/2018/09/Hula-Grill-Aloha-Friday-1.jpg
END:VEVENT
BEGIN:VEVENT
DTSTART;TZID=Pacific/Honolulu:20250817T180000
DTEND;TZID=Pacific/Honolulu:20250817T203000
DTSTAMP:20260421T155744
CREATED:20221110T214057Z
LAST-MODIFIED:20221110T214057Z
UID:16933-1755453600-1755462600@www.hulagrillkaanapali.com
SUMMARY:Live Music Accompanied by Hula Show
DESCRIPTION:Live Music Daily from 6:00pm – 8:30pm \nAccompanied by Nightly Hula Show from 7:00pm – 8:00pm
URL:https://www.hulagrillkaanapali.com/event/live-music/2025-08-17/
LOCATION:Hula Grill Ka‘anapali\, 2435 Kaanapali Parkway\, Bldg. P1\, Lahaina\, HI\, 96761\, United States
CATEGORIES:Entertainment,Weekly Happenings
ATTACH;FMTTYPE=image/jpeg:https://www.hulagrillkaanapali.com/wp-content/uploads/2018/09/Hula-Grill-Aloha-Friday-1.jpg
END:VEVENT
BEGIN:VEVENT
DTSTART;TZID=Pacific/Honolulu:20250818T180000
DTEND;TZID=Pacific/Honolulu:20250818T203000
DTSTAMP:20260421T155744
CREATED:20221110T214057Z
LAST-MODIFIED:20221110T214057Z
UID:16934-1755540000-1755549000@www.hulagrillkaanapali.com
SUMMARY:Live Music Accompanied by Hula Show
DESCRIPTION:Live Music Daily from 6:00pm – 8:30pm \nAccompanied by Nightly Hula Show from 7:00pm – 8:00pm
URL:https://www.hulagrillkaanapali.com/event/live-music/2025-08-18/
LOCATION:Hula Grill Ka‘anapali\, 2435 Kaanapali Parkway\, Bldg. P1\, Lahaina\, HI\, 96761\, United States
CATEGORIES:Entertainment,Weekly Happenings
ATTACH;FMTTYPE=image/jpeg:https://www.hulagrillkaanapali.com/wp-content/uploads/2018/09/Hula-Grill-Aloha-Friday-1.jpg
END:VEVENT
BEGIN:VEVENT
DTSTART;TZID=Pacific/Honolulu:20250819T180000
DTEND;TZID=Pacific/Honolulu:20250819T203000
DTSTAMP:20260421T155744
CREATED:20221110T214057Z
LAST-MODIFIED:20221110T214057Z
UID:16935-1755626400-1755635400@www.hulagrillkaanapali.com
SUMMARY:Live Music Accompanied by Hula Show
DESCRIPTION:Live Music Daily from 6:00pm – 8:30pm \nAccompanied by Nightly Hula Show from 7:00pm – 8:00pm
URL:https://www.hulagrillkaanapali.com/event/live-music/2025-08-19/
LOCATION:Hula Grill Ka‘anapali\, 2435 Kaanapali Parkway\, Bldg. P1\, Lahaina\, HI\, 96761\, United States
CATEGORIES:Entertainment,Weekly Happenings
ATTACH;FMTTYPE=image/jpeg:https://www.hulagrillkaanapali.com/wp-content/uploads/2018/09/Hula-Grill-Aloha-Friday-1.jpg
END:VEVENT
BEGIN:VEVENT
DTSTART;TZID=Pacific/Honolulu:20250820T180000
DTEND;TZID=Pacific/Honolulu:20250820T203000
DTSTAMP:20260421T155744
CREATED:20221110T214057Z
LAST-MODIFIED:20221110T214057Z
UID:16936-1755712800-1755721800@www.hulagrillkaanapali.com
SUMMARY:Live Music Accompanied by Hula Show
DESCRIPTION:Live Music Daily from 6:00pm – 8:30pm \nAccompanied by Nightly Hula Show from 7:00pm – 8:00pm
URL:https://www.hulagrillkaanapali.com/event/live-music/2025-08-20/
LOCATION:Hula Grill Ka‘anapali\, 2435 Kaanapali Parkway\, Bldg. P1\, Lahaina\, HI\, 96761\, United States
CATEGORIES:Entertainment,Weekly Happenings
ATTACH;FMTTYPE=image/jpeg:https://www.hulagrillkaanapali.com/wp-content/uploads/2018/09/Hula-Grill-Aloha-Friday-1.jpg
END:VEVENT
BEGIN:VEVENT
DTSTART;TZID=Pacific/Honolulu:20250821T180000
DTEND;TZID=Pacific/Honolulu:20250821T203000
DTSTAMP:20260421T155744
CREATED:20221110T214057Z
LAST-MODIFIED:20221110T214057Z
UID:16937-1755799200-1755808200@www.hulagrillkaanapali.com
SUMMARY:Live Music Accompanied by Hula Show
DESCRIPTION:Live Music Daily from 6:00pm – 8:30pm \nAccompanied by Nightly Hula Show from 7:00pm – 8:00pm
URL:https://www.hulagrillkaanapali.com/event/live-music/2025-08-21/
LOCATION:Hula Grill Ka‘anapali\, 2435 Kaanapali Parkway\, Bldg. P1\, Lahaina\, HI\, 96761\, United States
CATEGORIES:Entertainment,Weekly Happenings
ATTACH;FMTTYPE=image/jpeg:https://www.hulagrillkaanapali.com/wp-content/uploads/2018/09/Hula-Grill-Aloha-Friday-1.jpg
END:VEVENT
BEGIN:VEVENT
DTSTART;TZID=Pacific/Honolulu:20250822T180000
DTEND;TZID=Pacific/Honolulu:20250822T203000
DTSTAMP:20260421T155744
CREATED:20221110T214057Z
LAST-MODIFIED:20221110T214057Z
UID:16938-1755885600-1755894600@www.hulagrillkaanapali.com
SUMMARY:Live Music Accompanied by Hula Show
DESCRIPTION:Live Music Daily from 6:00pm – 8:30pm \nAccompanied by Nightly Hula Show from 7:00pm – 8:00pm
URL:https://www.hulagrillkaanapali.com/event/live-music/2025-08-22/
LOCATION:Hula Grill Ka‘anapali\, 2435 Kaanapali Parkway\, Bldg. P1\, Lahaina\, HI\, 96761\, United States
CATEGORIES:Entertainment,Weekly Happenings
ATTACH;FMTTYPE=image/jpeg:https://www.hulagrillkaanapali.com/wp-content/uploads/2018/09/Hula-Grill-Aloha-Friday-1.jpg
END:VEVENT
BEGIN:VEVENT
DTSTART;TZID=Pacific/Honolulu:20250823T180000
DTEND;TZID=Pacific/Honolulu:20250823T203000
DTSTAMP:20260421T155744
CREATED:20221110T214057Z
LAST-MODIFIED:20221110T214057Z
UID:16939-1755972000-1755981000@www.hulagrillkaanapali.com
SUMMARY:Live Music Accompanied by Hula Show
DESCRIPTION:Live Music Daily from 6:00pm – 8:30pm \nAccompanied by Nightly Hula Show from 7:00pm – 8:00pm
URL:https://www.hulagrillkaanapali.com/event/live-music/2025-08-23/
LOCATION:Hula Grill Ka‘anapali\, 2435 Kaanapali Parkway\, Bldg. P1\, Lahaina\, HI\, 96761\, United States
CATEGORIES:Entertainment,Weekly Happenings
ATTACH;FMTTYPE=image/jpeg:https://www.hulagrillkaanapali.com/wp-content/uploads/2018/09/Hula-Grill-Aloha-Friday-1.jpg
END:VEVENT
BEGIN:VEVENT
DTSTART;TZID=Pacific/Honolulu:20250824T180000
DTEND;TZID=Pacific/Honolulu:20250824T203000
DTSTAMP:20260421T155744
CREATED:20221110T214057Z
LAST-MODIFIED:20221110T214057Z
UID:16940-1756058400-1756067400@www.hulagrillkaanapali.com
SUMMARY:Live Music Accompanied by Hula Show
DESCRIPTION:Live Music Daily from 6:00pm – 8:30pm \nAccompanied by Nightly Hula Show from 7:00pm – 8:00pm
URL:https://www.hulagrillkaanapali.com/event/live-music/2025-08-24/
LOCATION:Hula Grill Ka‘anapali\, 2435 Kaanapali Parkway\, Bldg. P1\, Lahaina\, HI\, 96761\, United States
CATEGORIES:Entertainment,Weekly Happenings
ATTACH;FMTTYPE=image/jpeg:https://www.hulagrillkaanapali.com/wp-content/uploads/2018/09/Hula-Grill-Aloha-Friday-1.jpg
END:VEVENT
BEGIN:VEVENT
DTSTART;TZID=Pacific/Honolulu:20250825T180000
DTEND;TZID=Pacific/Honolulu:20250825T203000
DTSTAMP:20260421T155744
CREATED:20221110T214057Z
LAST-MODIFIED:20221110T214057Z
UID:16941-1756144800-1756153800@www.hulagrillkaanapali.com
SUMMARY:Live Music Accompanied by Hula Show
DESCRIPTION:Live Music Daily from 6:00pm – 8:30pm \nAccompanied by Nightly Hula Show from 7:00pm – 8:00pm
URL:https://www.hulagrillkaanapali.com/event/live-music/2025-08-25/
LOCATION:Hula Grill Ka‘anapali\, 2435 Kaanapali Parkway\, Bldg. P1\, Lahaina\, HI\, 96761\, United States
CATEGORIES:Entertainment,Weekly Happenings
ATTACH;FMTTYPE=image/jpeg:https://www.hulagrillkaanapali.com/wp-content/uploads/2018/09/Hula-Grill-Aloha-Friday-1.jpg
END:VEVENT
BEGIN:VEVENT
DTSTART;TZID=Pacific/Honolulu:20250826T180000
DTEND;TZID=Pacific/Honolulu:20250826T203000
DTSTAMP:20260421T155744
CREATED:20221110T214057Z
LAST-MODIFIED:20221110T214057Z
UID:16942-1756231200-1756240200@www.hulagrillkaanapali.com
SUMMARY:Live Music Accompanied by Hula Show
DESCRIPTION:Live Music Daily from 6:00pm – 8:30pm \nAccompanied by Nightly Hula Show from 7:00pm – 8:00pm
URL:https://www.hulagrillkaanapali.com/event/live-music/2025-08-26/
LOCATION:Hula Grill Ka‘anapali\, 2435 Kaanapali Parkway\, Bldg. P1\, Lahaina\, HI\, 96761\, United States
CATEGORIES:Entertainment,Weekly Happenings
ATTACH;FMTTYPE=image/jpeg:https://www.hulagrillkaanapali.com/wp-content/uploads/2018/09/Hula-Grill-Aloha-Friday-1.jpg
END:VEVENT
BEGIN:VEVENT
DTSTART;TZID=Pacific/Honolulu:20250827T180000
DTEND;TZID=Pacific/Honolulu:20250827T203000
DTSTAMP:20260421T155744
CREATED:20221110T214057Z
LAST-MODIFIED:20221110T214057Z
UID:16943-1756317600-1756326600@www.hulagrillkaanapali.com
SUMMARY:Live Music Accompanied by Hula Show
DESCRIPTION:Live Music Daily from 6:00pm – 8:30pm \nAccompanied by Nightly Hula Show from 7:00pm – 8:00pm
URL:https://www.hulagrillkaanapali.com/event/live-music/2025-08-27/
LOCATION:Hula Grill Ka‘anapali\, 2435 Kaanapali Parkway\, Bldg. P1\, Lahaina\, HI\, 96761\, United States
CATEGORIES:Entertainment,Weekly Happenings
ATTACH;FMTTYPE=image/jpeg:https://www.hulagrillkaanapali.com/wp-content/uploads/2018/09/Hula-Grill-Aloha-Friday-1.jpg
END:VEVENT
BEGIN:VEVENT
DTSTART;TZID=Pacific/Honolulu:20250828T180000
DTEND;TZID=Pacific/Honolulu:20250828T203000
DTSTAMP:20260421T155744
CREATED:20221110T214057Z
LAST-MODIFIED:20221110T214057Z
UID:16944-1756404000-1756413000@www.hulagrillkaanapali.com
SUMMARY:Live Music Accompanied by Hula Show
DESCRIPTION:Live Music Daily from 6:00pm – 8:30pm \nAccompanied by Nightly Hula Show from 7:00pm – 8:00pm
URL:https://www.hulagrillkaanapali.com/event/live-music/2025-08-28/
LOCATION:Hula Grill Ka‘anapali\, 2435 Kaanapali Parkway\, Bldg. P1\, Lahaina\, HI\, 96761\, United States
CATEGORIES:Entertainment,Weekly Happenings
ATTACH;FMTTYPE=image/jpeg:https://www.hulagrillkaanapali.com/wp-content/uploads/2018/09/Hula-Grill-Aloha-Friday-1.jpg
END:VEVENT
BEGIN:VEVENT
DTSTART;TZID=Pacific/Honolulu:20250829T180000
DTEND;TZID=Pacific/Honolulu:20250829T203000
DTSTAMP:20260421T155744
CREATED:20221110T214057Z
LAST-MODIFIED:20221110T214057Z
UID:16945-1756490400-1756499400@www.hulagrillkaanapali.com
SUMMARY:Live Music Accompanied by Hula Show
DESCRIPTION:Live Music Daily from 6:00pm – 8:30pm \nAccompanied by Nightly Hula Show from 7:00pm – 8:00pm
URL:https://www.hulagrillkaanapali.com/event/live-music/2025-08-29/
LOCATION:Hula Grill Ka‘anapali\, 2435 Kaanapali Parkway\, Bldg. P1\, Lahaina\, HI\, 96761\, United States
CATEGORIES:Entertainment,Weekly Happenings
ATTACH;FMTTYPE=image/jpeg:https://www.hulagrillkaanapali.com/wp-content/uploads/2018/09/Hula-Grill-Aloha-Friday-1.jpg
END:VEVENT
BEGIN:VEVENT
DTSTART;TZID=Pacific/Honolulu:20250830T180000
DTEND;TZID=Pacific/Honolulu:20250830T203000
DTSTAMP:20260421T155744
CREATED:20221110T214057Z
LAST-MODIFIED:20221110T214057Z
UID:16946-1756576800-1756585800@www.hulagrillkaanapali.com
SUMMARY:Live Music Accompanied by Hula Show
DESCRIPTION:Live Music Daily from 6:00pm – 8:30pm \nAccompanied by Nightly Hula Show from 7:00pm – 8:00pm
URL:https://www.hulagrillkaanapali.com/event/live-music/2025-08-30/
LOCATION:Hula Grill Ka‘anapali\, 2435 Kaanapali Parkway\, Bldg. P1\, Lahaina\, HI\, 96761\, United States
CATEGORIES:Entertainment,Weekly Happenings
ATTACH;FMTTYPE=image/jpeg:https://www.hulagrillkaanapali.com/wp-content/uploads/2018/09/Hula-Grill-Aloha-Friday-1.jpg
END:VEVENT
BEGIN:VEVENT
DTSTART;TZID=Pacific/Honolulu:20250831T180000
DTEND;TZID=Pacific/Honolulu:20250831T203000
DTSTAMP:20260421T155744
CREATED:20221110T214057Z
LAST-MODIFIED:20221110T214057Z
UID:16947-1756663200-1756672200@www.hulagrillkaanapali.com
SUMMARY:Live Music Accompanied by Hula Show
DESCRIPTION:Live Music Daily from 6:00pm – 8:30pm \nAccompanied by Nightly Hula Show from 7:00pm – 8:00pm
URL:https://www.hulagrillkaanapali.com/event/live-music/2025-08-31/
LOCATION:Hula Grill Ka‘anapali\, 2435 Kaanapali Parkway\, Bldg. P1\, Lahaina\, HI\, 96761\, United States
CATEGORIES:Entertainment,Weekly Happenings
ATTACH;FMTTYPE=image/jpeg:https://www.hulagrillkaanapali.com/wp-content/uploads/2018/09/Hula-Grill-Aloha-Friday-1.jpg
END:VEVENT
BEGIN:VEVENT
DTSTART;TZID=Pacific/Honolulu:20250901T180000
DTEND;TZID=Pacific/Honolulu:20250901T203000
DTSTAMP:20260421T155744
CREATED:20221110T214057Z
LAST-MODIFIED:20221110T214057Z
UID:16948-1756749600-1756758600@www.hulagrillkaanapali.com
SUMMARY:Live Music Accompanied by Hula Show
DESCRIPTION:Live Music Daily from 6:00pm – 8:30pm \nAccompanied by Nightly Hula Show from 7:00pm – 8:00pm
URL:https://www.hulagrillkaanapali.com/event/live-music/2025-09-01/
LOCATION:Hula Grill Ka‘anapali\, 2435 Kaanapali Parkway\, Bldg. P1\, Lahaina\, HI\, 96761\, United States
CATEGORIES:Entertainment,Weekly Happenings
ATTACH;FMTTYPE=image/jpeg:https://www.hulagrillkaanapali.com/wp-content/uploads/2018/09/Hula-Grill-Aloha-Friday-1.jpg
END:VEVENT
BEGIN:VEVENT
DTSTART;TZID=Pacific/Honolulu:20250902T180000
DTEND;TZID=Pacific/Honolulu:20250902T203000
DTSTAMP:20260421T155744
CREATED:20221110T214057Z
LAST-MODIFIED:20221110T214057Z
UID:16949-1756836000-1756845000@www.hulagrillkaanapali.com
SUMMARY:Live Music Accompanied by Hula Show
DESCRIPTION:Live Music Daily from 6:00pm – 8:30pm \nAccompanied by Nightly Hula Show from 7:00pm – 8:00pm
URL:https://www.hulagrillkaanapali.com/event/live-music/2025-09-02/
LOCATION:Hula Grill Ka‘anapali\, 2435 Kaanapali Parkway\, Bldg. P1\, Lahaina\, HI\, 96761\, United States
CATEGORIES:Entertainment,Weekly Happenings
ATTACH;FMTTYPE=image/jpeg:https://www.hulagrillkaanapali.com/wp-content/uploads/2018/09/Hula-Grill-Aloha-Friday-1.jpg
END:VEVENT
BEGIN:VEVENT
DTSTART;TZID=Pacific/Honolulu:20250903T180000
DTEND;TZID=Pacific/Honolulu:20250903T203000
DTSTAMP:20260421T155744
CREATED:20221110T214057Z
LAST-MODIFIED:20221110T214057Z
UID:16950-1756922400-1756931400@www.hulagrillkaanapali.com
SUMMARY:Live Music Accompanied by Hula Show
DESCRIPTION:Live Music Daily from 6:00pm – 8:30pm \nAccompanied by Nightly Hula Show from 7:00pm – 8:00pm
URL:https://www.hulagrillkaanapali.com/event/live-music/2025-09-03/
LOCATION:Hula Grill Ka‘anapali\, 2435 Kaanapali Parkway\, Bldg. P1\, Lahaina\, HI\, 96761\, United States
CATEGORIES:Entertainment,Weekly Happenings
ATTACH;FMTTYPE=image/jpeg:https://www.hulagrillkaanapali.com/wp-content/uploads/2018/09/Hula-Grill-Aloha-Friday-1.jpg
END:VEVENT
BEGIN:VEVENT
DTSTART;TZID=Pacific/Honolulu:20250904T180000
DTEND;TZID=Pacific/Honolulu:20250904T203000
DTSTAMP:20260421T155744
CREATED:20221110T214057Z
LAST-MODIFIED:20221110T214057Z
UID:16951-1757008800-1757017800@www.hulagrillkaanapali.com
SUMMARY:Live Music Accompanied by Hula Show
DESCRIPTION:Live Music Daily from 6:00pm – 8:30pm \nAccompanied by Nightly Hula Show from 7:00pm – 8:00pm
URL:https://www.hulagrillkaanapali.com/event/live-music/2025-09-04/
LOCATION:Hula Grill Ka‘anapali\, 2435 Kaanapali Parkway\, Bldg. P1\, Lahaina\, HI\, 96761\, United States
CATEGORIES:Entertainment,Weekly Happenings
ATTACH;FMTTYPE=image/jpeg:https://www.hulagrillkaanapali.com/wp-content/uploads/2018/09/Hula-Grill-Aloha-Friday-1.jpg
END:VEVENT
BEGIN:VEVENT
DTSTART;TZID=Pacific/Honolulu:20250905T180000
DTEND;TZID=Pacific/Honolulu:20250905T203000
DTSTAMP:20260421T155744
CREATED:20221110T214057Z
LAST-MODIFIED:20221110T214057Z
UID:16952-1757095200-1757104200@www.hulagrillkaanapali.com
SUMMARY:Live Music Accompanied by Hula Show
DESCRIPTION:Live Music Daily from 6:00pm – 8:30pm \nAccompanied by Nightly Hula Show from 7:00pm – 8:00pm
URL:https://www.hulagrillkaanapali.com/event/live-music/2025-09-05/
LOCATION:Hula Grill Ka‘anapali\, 2435 Kaanapali Parkway\, Bldg. P1\, Lahaina\, HI\, 96761\, United States
CATEGORIES:Entertainment,Weekly Happenings
ATTACH;FMTTYPE=image/jpeg:https://www.hulagrillkaanapali.com/wp-content/uploads/2018/09/Hula-Grill-Aloha-Friday-1.jpg
END:VEVENT
BEGIN:VEVENT
DTSTART;TZID=Pacific/Honolulu:20250906T180000
DTEND;TZID=Pacific/Honolulu:20250906T203000
DTSTAMP:20260421T155744
CREATED:20221110T214057Z
LAST-MODIFIED:20221110T214057Z
UID:16953-1757181600-1757190600@www.hulagrillkaanapali.com
SUMMARY:Live Music Accompanied by Hula Show
DESCRIPTION:Live Music Daily from 6:00pm – 8:30pm \nAccompanied by Nightly Hula Show from 7:00pm – 8:00pm
URL:https://www.hulagrillkaanapali.com/event/live-music/2025-09-06/
LOCATION:Hula Grill Ka‘anapali\, 2435 Kaanapali Parkway\, Bldg. P1\, Lahaina\, HI\, 96761\, United States
CATEGORIES:Entertainment,Weekly Happenings
ATTACH;FMTTYPE=image/jpeg:https://www.hulagrillkaanapali.com/wp-content/uploads/2018/09/Hula-Grill-Aloha-Friday-1.jpg
END:VEVENT
BEGIN:VEVENT
DTSTART;TZID=Pacific/Honolulu:20250907T180000
DTEND;TZID=Pacific/Honolulu:20250907T203000
DTSTAMP:20260421T155744
CREATED:20221110T214057Z
LAST-MODIFIED:20221110T214057Z
UID:16954-1757268000-1757277000@www.hulagrillkaanapali.com
SUMMARY:Live Music Accompanied by Hula Show
DESCRIPTION:Live Music Daily from 6:00pm – 8:30pm \nAccompanied by Nightly Hula Show from 7:00pm – 8:00pm
URL:https://www.hulagrillkaanapali.com/event/live-music/2025-09-07/
LOCATION:Hula Grill Ka‘anapali\, 2435 Kaanapali Parkway\, Bldg. P1\, Lahaina\, HI\, 96761\, United States
CATEGORIES:Entertainment,Weekly Happenings
ATTACH;FMTTYPE=image/jpeg:https://www.hulagrillkaanapali.com/wp-content/uploads/2018/09/Hula-Grill-Aloha-Friday-1.jpg
END:VEVENT
END:VCALENDAR