BEGIN:VCALENDAR
VERSION:2.0
PRODID:-//Hula Grill Kaanapali - ECPv6.15.5//NONSGML v1.0//EN
CALSCALE:GREGORIAN
METHOD:PUBLISH
X-ORIGINAL-URL:https://www.hulagrillkaanapali.com
X-WR-CALDESC:Events for Hula Grill Kaanapali
REFRESH-INTERVAL;VALUE=DURATION:PT1H
X-Robots-Tag:noindex
X-PUBLISHED-TTL:PT1H
BEGIN:VTIMEZONE
TZID:Pacific/Honolulu
BEGIN:STANDARD
TZOFFSETFROM:-1000
TZOFFSETTO:-1000
TZNAME:HST
DTSTART:20250101T000000
END:STANDARD
END:VTIMEZONE
BEGIN:VEVENT
DTSTART;TZID=Pacific/Honolulu:20250720T180000
DTEND;TZID=Pacific/Honolulu:20250720T203000
DTSTAMP:20260421T130706
CREATED:20221110T214057Z
LAST-MODIFIED:20221110T214057Z
UID:16905-1753034400-1753043400@www.hulagrillkaanapali.com
SUMMARY:Live Music Accompanied by Hula Show
DESCRIPTION:Live Music Daily from 6:00pm – 8:30pm \nAccompanied by Nightly Hula Show from 7:00pm – 8:00pm
URL:https://www.hulagrillkaanapali.com/event/live-music/2025-07-20/
LOCATION:Hula Grill Ka‘anapali\, 2435 Kaanapali Parkway\, Bldg. P1\, Lahaina\, HI\, 96761\, United States
CATEGORIES:Entertainment,Weekly Happenings
ATTACH;FMTTYPE=image/jpeg:https://www.hulagrillkaanapali.com/wp-content/uploads/2018/09/Hula-Grill-Aloha-Friday-1.jpg
END:VEVENT
BEGIN:VEVENT
DTSTART;TZID=Pacific/Honolulu:20250721T180000
DTEND;TZID=Pacific/Honolulu:20250721T203000
DTSTAMP:20260421T130706
CREATED:20221110T214057Z
LAST-MODIFIED:20221110T214057Z
UID:16906-1753120800-1753129800@www.hulagrillkaanapali.com
SUMMARY:Live Music Accompanied by Hula Show
DESCRIPTION:Live Music Daily from 6:00pm – 8:30pm \nAccompanied by Nightly Hula Show from 7:00pm – 8:00pm
URL:https://www.hulagrillkaanapali.com/event/live-music/2025-07-21/
LOCATION:Hula Grill Ka‘anapali\, 2435 Kaanapali Parkway\, Bldg. P1\, Lahaina\, HI\, 96761\, United States
CATEGORIES:Entertainment,Weekly Happenings
ATTACH;FMTTYPE=image/jpeg:https://www.hulagrillkaanapali.com/wp-content/uploads/2018/09/Hula-Grill-Aloha-Friday-1.jpg
END:VEVENT
BEGIN:VEVENT
DTSTART;TZID=Pacific/Honolulu:20250722T180000
DTEND;TZID=Pacific/Honolulu:20250722T203000
DTSTAMP:20260421T130706
CREATED:20221110T214057Z
LAST-MODIFIED:20221110T214057Z
UID:16907-1753207200-1753216200@www.hulagrillkaanapali.com
SUMMARY:Live Music Accompanied by Hula Show
DESCRIPTION:Live Music Daily from 6:00pm – 8:30pm \nAccompanied by Nightly Hula Show from 7:00pm – 8:00pm
URL:https://www.hulagrillkaanapali.com/event/live-music/2025-07-22/
LOCATION:Hula Grill Ka‘anapali\, 2435 Kaanapali Parkway\, Bldg. P1\, Lahaina\, HI\, 96761\, United States
CATEGORIES:Entertainment,Weekly Happenings
ATTACH;FMTTYPE=image/jpeg:https://www.hulagrillkaanapali.com/wp-content/uploads/2018/09/Hula-Grill-Aloha-Friday-1.jpg
END:VEVENT
BEGIN:VEVENT
DTSTART;TZID=Pacific/Honolulu:20250723T180000
DTEND;TZID=Pacific/Honolulu:20250723T203000
DTSTAMP:20260421T130706
CREATED:20221110T214057Z
LAST-MODIFIED:20221110T214057Z
UID:16908-1753293600-1753302600@www.hulagrillkaanapali.com
SUMMARY:Live Music Accompanied by Hula Show
DESCRIPTION:Live Music Daily from 6:00pm – 8:30pm \nAccompanied by Nightly Hula Show from 7:00pm – 8:00pm
URL:https://www.hulagrillkaanapali.com/event/live-music/2025-07-23/
LOCATION:Hula Grill Ka‘anapali\, 2435 Kaanapali Parkway\, Bldg. P1\, Lahaina\, HI\, 96761\, United States
CATEGORIES:Entertainment,Weekly Happenings
ATTACH;FMTTYPE=image/jpeg:https://www.hulagrillkaanapali.com/wp-content/uploads/2018/09/Hula-Grill-Aloha-Friday-1.jpg
END:VEVENT
BEGIN:VEVENT
DTSTART;TZID=Pacific/Honolulu:20250724T180000
DTEND;TZID=Pacific/Honolulu:20250724T203000
DTSTAMP:20260421T130706
CREATED:20221110T214057Z
LAST-MODIFIED:20221110T214057Z
UID:16909-1753380000-1753389000@www.hulagrillkaanapali.com
SUMMARY:Live Music Accompanied by Hula Show
DESCRIPTION:Live Music Daily from 6:00pm – 8:30pm \nAccompanied by Nightly Hula Show from 7:00pm – 8:00pm
URL:https://www.hulagrillkaanapali.com/event/live-music/2025-07-24/
LOCATION:Hula Grill Ka‘anapali\, 2435 Kaanapali Parkway\, Bldg. P1\, Lahaina\, HI\, 96761\, United States
CATEGORIES:Entertainment,Weekly Happenings
ATTACH;FMTTYPE=image/jpeg:https://www.hulagrillkaanapali.com/wp-content/uploads/2018/09/Hula-Grill-Aloha-Friday-1.jpg
END:VEVENT
BEGIN:VEVENT
DTSTART;TZID=Pacific/Honolulu:20250725T180000
DTEND;TZID=Pacific/Honolulu:20250725T203000
DTSTAMP:20260421T130706
CREATED:20221110T214057Z
LAST-MODIFIED:20221110T214057Z
UID:16910-1753466400-1753475400@www.hulagrillkaanapali.com
SUMMARY:Live Music Accompanied by Hula Show
DESCRIPTION:Live Music Daily from 6:00pm – 8:30pm \nAccompanied by Nightly Hula Show from 7:00pm – 8:00pm
URL:https://www.hulagrillkaanapali.com/event/live-music/2025-07-25/
LOCATION:Hula Grill Ka‘anapali\, 2435 Kaanapali Parkway\, Bldg. P1\, Lahaina\, HI\, 96761\, United States
CATEGORIES:Entertainment,Weekly Happenings
ATTACH;FMTTYPE=image/jpeg:https://www.hulagrillkaanapali.com/wp-content/uploads/2018/09/Hula-Grill-Aloha-Friday-1.jpg
END:VEVENT
BEGIN:VEVENT
DTSTART;TZID=Pacific/Honolulu:20250726T180000
DTEND;TZID=Pacific/Honolulu:20250726T203000
DTSTAMP:20260421T130706
CREATED:20221110T214057Z
LAST-MODIFIED:20221110T214057Z
UID:16911-1753552800-1753561800@www.hulagrillkaanapali.com
SUMMARY:Live Music Accompanied by Hula Show
DESCRIPTION:Live Music Daily from 6:00pm – 8:30pm \nAccompanied by Nightly Hula Show from 7:00pm – 8:00pm
URL:https://www.hulagrillkaanapali.com/event/live-music/2025-07-26/
LOCATION:Hula Grill Ka‘anapali\, 2435 Kaanapali Parkway\, Bldg. P1\, Lahaina\, HI\, 96761\, United States
CATEGORIES:Entertainment,Weekly Happenings
ATTACH;FMTTYPE=image/jpeg:https://www.hulagrillkaanapali.com/wp-content/uploads/2018/09/Hula-Grill-Aloha-Friday-1.jpg
END:VEVENT
BEGIN:VEVENT
DTSTART;TZID=Pacific/Honolulu:20250727T180000
DTEND;TZID=Pacific/Honolulu:20250727T203000
DTSTAMP:20260421T130706
CREATED:20221110T214057Z
LAST-MODIFIED:20221110T214057Z
UID:16912-1753639200-1753648200@www.hulagrillkaanapali.com
SUMMARY:Live Music Accompanied by Hula Show
DESCRIPTION:Live Music Daily from 6:00pm – 8:30pm \nAccompanied by Nightly Hula Show from 7:00pm – 8:00pm
URL:https://www.hulagrillkaanapali.com/event/live-music/2025-07-27/
LOCATION:Hula Grill Ka‘anapali\, 2435 Kaanapali Parkway\, Bldg. P1\, Lahaina\, HI\, 96761\, United States
CATEGORIES:Entertainment,Weekly Happenings
ATTACH;FMTTYPE=image/jpeg:https://www.hulagrillkaanapali.com/wp-content/uploads/2018/09/Hula-Grill-Aloha-Friday-1.jpg
END:VEVENT
BEGIN:VEVENT
DTSTART;TZID=Pacific/Honolulu:20250728T180000
DTEND;TZID=Pacific/Honolulu:20250728T203000
DTSTAMP:20260421T130706
CREATED:20221110T214057Z
LAST-MODIFIED:20221110T214057Z
UID:16913-1753725600-1753734600@www.hulagrillkaanapali.com
SUMMARY:Live Music Accompanied by Hula Show
DESCRIPTION:Live Music Daily from 6:00pm – 8:30pm \nAccompanied by Nightly Hula Show from 7:00pm – 8:00pm
URL:https://www.hulagrillkaanapali.com/event/live-music/2025-07-28/
LOCATION:Hula Grill Ka‘anapali\, 2435 Kaanapali Parkway\, Bldg. P1\, Lahaina\, HI\, 96761\, United States
CATEGORIES:Entertainment,Weekly Happenings
ATTACH;FMTTYPE=image/jpeg:https://www.hulagrillkaanapali.com/wp-content/uploads/2018/09/Hula-Grill-Aloha-Friday-1.jpg
END:VEVENT
BEGIN:VEVENT
DTSTART;TZID=Pacific/Honolulu:20250729T180000
DTEND;TZID=Pacific/Honolulu:20250729T203000
DTSTAMP:20260421T130706
CREATED:20221110T214057Z
LAST-MODIFIED:20221110T214057Z
UID:16914-1753812000-1753821000@www.hulagrillkaanapali.com
SUMMARY:Live Music Accompanied by Hula Show
DESCRIPTION:Live Music Daily from 6:00pm – 8:30pm \nAccompanied by Nightly Hula Show from 7:00pm – 8:00pm
URL:https://www.hulagrillkaanapali.com/event/live-music/2025-07-29/
LOCATION:Hula Grill Ka‘anapali\, 2435 Kaanapali Parkway\, Bldg. P1\, Lahaina\, HI\, 96761\, United States
CATEGORIES:Entertainment,Weekly Happenings
ATTACH;FMTTYPE=image/jpeg:https://www.hulagrillkaanapali.com/wp-content/uploads/2018/09/Hula-Grill-Aloha-Friday-1.jpg
END:VEVENT
BEGIN:VEVENT
DTSTART;TZID=Pacific/Honolulu:20250730T180000
DTEND;TZID=Pacific/Honolulu:20250730T203000
DTSTAMP:20260421T130706
CREATED:20221110T214057Z
LAST-MODIFIED:20221110T214057Z
UID:16915-1753898400-1753907400@www.hulagrillkaanapali.com
SUMMARY:Live Music Accompanied by Hula Show
DESCRIPTION:Live Music Daily from 6:00pm – 8:30pm \nAccompanied by Nightly Hula Show from 7:00pm – 8:00pm
URL:https://www.hulagrillkaanapali.com/event/live-music/2025-07-30/
LOCATION:Hula Grill Ka‘anapali\, 2435 Kaanapali Parkway\, Bldg. P1\, Lahaina\, HI\, 96761\, United States
CATEGORIES:Entertainment,Weekly Happenings
ATTACH;FMTTYPE=image/jpeg:https://www.hulagrillkaanapali.com/wp-content/uploads/2018/09/Hula-Grill-Aloha-Friday-1.jpg
END:VEVENT
BEGIN:VEVENT
DTSTART;TZID=Pacific/Honolulu:20250731T180000
DTEND;TZID=Pacific/Honolulu:20250731T203000
DTSTAMP:20260421T130706
CREATED:20221110T214057Z
LAST-MODIFIED:20221110T214057Z
UID:16916-1753984800-1753993800@www.hulagrillkaanapali.com
SUMMARY:Live Music Accompanied by Hula Show
DESCRIPTION:Live Music Daily from 6:00pm – 8:30pm \nAccompanied by Nightly Hula Show from 7:00pm – 8:00pm
URL:https://www.hulagrillkaanapali.com/event/live-music/2025-07-31/
LOCATION:Hula Grill Ka‘anapali\, 2435 Kaanapali Parkway\, Bldg. P1\, Lahaina\, HI\, 96761\, United States
CATEGORIES:Entertainment,Weekly Happenings
ATTACH;FMTTYPE=image/jpeg:https://www.hulagrillkaanapali.com/wp-content/uploads/2018/09/Hula-Grill-Aloha-Friday-1.jpg
END:VEVENT
BEGIN:VEVENT
DTSTART;TZID=Pacific/Honolulu:20250801T180000
DTEND;TZID=Pacific/Honolulu:20250801T203000
DTSTAMP:20260421T130706
CREATED:20221110T214057Z
LAST-MODIFIED:20221110T214057Z
UID:16917-1754071200-1754080200@www.hulagrillkaanapali.com
SUMMARY:Live Music Accompanied by Hula Show
DESCRIPTION:Live Music Daily from 6:00pm – 8:30pm \nAccompanied by Nightly Hula Show from 7:00pm – 8:00pm
URL:https://www.hulagrillkaanapali.com/event/live-music/2025-08-01/
LOCATION:Hula Grill Ka‘anapali\, 2435 Kaanapali Parkway\, Bldg. P1\, Lahaina\, HI\, 96761\, United States
CATEGORIES:Entertainment,Weekly Happenings
ATTACH;FMTTYPE=image/jpeg:https://www.hulagrillkaanapali.com/wp-content/uploads/2018/09/Hula-Grill-Aloha-Friday-1.jpg
END:VEVENT
BEGIN:VEVENT
DTSTART;TZID=Pacific/Honolulu:20250802T180000
DTEND;TZID=Pacific/Honolulu:20250802T203000
DTSTAMP:20260421T130706
CREATED:20221110T214057Z
LAST-MODIFIED:20221110T214057Z
UID:16918-1754157600-1754166600@www.hulagrillkaanapali.com
SUMMARY:Live Music Accompanied by Hula Show
DESCRIPTION:Live Music Daily from 6:00pm – 8:30pm \nAccompanied by Nightly Hula Show from 7:00pm – 8:00pm
URL:https://www.hulagrillkaanapali.com/event/live-music/2025-08-02/
LOCATION:Hula Grill Ka‘anapali\, 2435 Kaanapali Parkway\, Bldg. P1\, Lahaina\, HI\, 96761\, United States
CATEGORIES:Entertainment,Weekly Happenings
ATTACH;FMTTYPE=image/jpeg:https://www.hulagrillkaanapali.com/wp-content/uploads/2018/09/Hula-Grill-Aloha-Friday-1.jpg
END:VEVENT
BEGIN:VEVENT
DTSTART;TZID=Pacific/Honolulu:20250803T180000
DTEND;TZID=Pacific/Honolulu:20250803T203000
DTSTAMP:20260421T130706
CREATED:20221110T214057Z
LAST-MODIFIED:20221110T214057Z
UID:16919-1754244000-1754253000@www.hulagrillkaanapali.com
SUMMARY:Live Music Accompanied by Hula Show
DESCRIPTION:Live Music Daily from 6:00pm – 8:30pm \nAccompanied by Nightly Hula Show from 7:00pm – 8:00pm
URL:https://www.hulagrillkaanapali.com/event/live-music/2025-08-03/
LOCATION:Hula Grill Ka‘anapali\, 2435 Kaanapali Parkway\, Bldg. P1\, Lahaina\, HI\, 96761\, United States
CATEGORIES:Entertainment,Weekly Happenings
ATTACH;FMTTYPE=image/jpeg:https://www.hulagrillkaanapali.com/wp-content/uploads/2018/09/Hula-Grill-Aloha-Friday-1.jpg
END:VEVENT
BEGIN:VEVENT
DTSTART;TZID=Pacific/Honolulu:20250804T180000
DTEND;TZID=Pacific/Honolulu:20250804T203000
DTSTAMP:20260421T130706
CREATED:20221110T214057Z
LAST-MODIFIED:20221110T214057Z
UID:16920-1754330400-1754339400@www.hulagrillkaanapali.com
SUMMARY:Live Music Accompanied by Hula Show
DESCRIPTION:Live Music Daily from 6:00pm – 8:30pm \nAccompanied by Nightly Hula Show from 7:00pm – 8:00pm
URL:https://www.hulagrillkaanapali.com/event/live-music/2025-08-04/
LOCATION:Hula Grill Ka‘anapali\, 2435 Kaanapali Parkway\, Bldg. P1\, Lahaina\, HI\, 96761\, United States
CATEGORIES:Entertainment,Weekly Happenings
ATTACH;FMTTYPE=image/jpeg:https://www.hulagrillkaanapali.com/wp-content/uploads/2018/09/Hula-Grill-Aloha-Friday-1.jpg
END:VEVENT
BEGIN:VEVENT
DTSTART;TZID=Pacific/Honolulu:20250805T180000
DTEND;TZID=Pacific/Honolulu:20250805T203000
DTSTAMP:20260421T130706
CREATED:20221110T214057Z
LAST-MODIFIED:20221110T214057Z
UID:16921-1754416800-1754425800@www.hulagrillkaanapali.com
SUMMARY:Live Music Accompanied by Hula Show
DESCRIPTION:Live Music Daily from 6:00pm – 8:30pm \nAccompanied by Nightly Hula Show from 7:00pm – 8:00pm
URL:https://www.hulagrillkaanapali.com/event/live-music/2025-08-05/
LOCATION:Hula Grill Ka‘anapali\, 2435 Kaanapali Parkway\, Bldg. P1\, Lahaina\, HI\, 96761\, United States
CATEGORIES:Entertainment,Weekly Happenings
ATTACH;FMTTYPE=image/jpeg:https://www.hulagrillkaanapali.com/wp-content/uploads/2018/09/Hula-Grill-Aloha-Friday-1.jpg
END:VEVENT
BEGIN:VEVENT
DTSTART;TZID=Pacific/Honolulu:20250806T180000
DTEND;TZID=Pacific/Honolulu:20250806T203000
DTSTAMP:20260421T130706
CREATED:20221110T214057Z
LAST-MODIFIED:20221110T214057Z
UID:16922-1754503200-1754512200@www.hulagrillkaanapali.com
SUMMARY:Live Music Accompanied by Hula Show
DESCRIPTION:Live Music Daily from 6:00pm – 8:30pm \nAccompanied by Nightly Hula Show from 7:00pm – 8:00pm
URL:https://www.hulagrillkaanapali.com/event/live-music/2025-08-06/
LOCATION:Hula Grill Ka‘anapali\, 2435 Kaanapali Parkway\, Bldg. P1\, Lahaina\, HI\, 96761\, United States
CATEGORIES:Entertainment,Weekly Happenings
ATTACH;FMTTYPE=image/jpeg:https://www.hulagrillkaanapali.com/wp-content/uploads/2018/09/Hula-Grill-Aloha-Friday-1.jpg
END:VEVENT
BEGIN:VEVENT
DTSTART;TZID=Pacific/Honolulu:20250807T180000
DTEND;TZID=Pacific/Honolulu:20250807T203000
DTSTAMP:20260421T130706
CREATED:20221110T214057Z
LAST-MODIFIED:20221110T214057Z
UID:16923-1754589600-1754598600@www.hulagrillkaanapali.com
SUMMARY:Live Music Accompanied by Hula Show
DESCRIPTION:Live Music Daily from 6:00pm – 8:30pm \nAccompanied by Nightly Hula Show from 7:00pm – 8:00pm
URL:https://www.hulagrillkaanapali.com/event/live-music/2025-08-07/
LOCATION:Hula Grill Ka‘anapali\, 2435 Kaanapali Parkway\, Bldg. P1\, Lahaina\, HI\, 96761\, United States
CATEGORIES:Entertainment,Weekly Happenings
ATTACH;FMTTYPE=image/jpeg:https://www.hulagrillkaanapali.com/wp-content/uploads/2018/09/Hula-Grill-Aloha-Friday-1.jpg
END:VEVENT
BEGIN:VEVENT
DTSTART;TZID=Pacific/Honolulu:20250808T180000
DTEND;TZID=Pacific/Honolulu:20250808T203000
DTSTAMP:20260421T130706
CREATED:20221110T214057Z
LAST-MODIFIED:20221110T214057Z
UID:16924-1754676000-1754685000@www.hulagrillkaanapali.com
SUMMARY:Live Music Accompanied by Hula Show
DESCRIPTION:Live Music Daily from 6:00pm – 8:30pm \nAccompanied by Nightly Hula Show from 7:00pm – 8:00pm
URL:https://www.hulagrillkaanapali.com/event/live-music/2025-08-08/
LOCATION:Hula Grill Ka‘anapali\, 2435 Kaanapali Parkway\, Bldg. P1\, Lahaina\, HI\, 96761\, United States
CATEGORIES:Entertainment,Weekly Happenings
ATTACH;FMTTYPE=image/jpeg:https://www.hulagrillkaanapali.com/wp-content/uploads/2018/09/Hula-Grill-Aloha-Friday-1.jpg
END:VEVENT
BEGIN:VEVENT
DTSTART;TZID=Pacific/Honolulu:20250809T180000
DTEND;TZID=Pacific/Honolulu:20250809T203000
DTSTAMP:20260421T130706
CREATED:20221110T214057Z
LAST-MODIFIED:20221110T214057Z
UID:16925-1754762400-1754771400@www.hulagrillkaanapali.com
SUMMARY:Live Music Accompanied by Hula Show
DESCRIPTION:Live Music Daily from 6:00pm – 8:30pm \nAccompanied by Nightly Hula Show from 7:00pm – 8:00pm
URL:https://www.hulagrillkaanapali.com/event/live-music/2025-08-09/
LOCATION:Hula Grill Ka‘anapali\, 2435 Kaanapali Parkway\, Bldg. P1\, Lahaina\, HI\, 96761\, United States
CATEGORIES:Entertainment,Weekly Happenings
ATTACH;FMTTYPE=image/jpeg:https://www.hulagrillkaanapali.com/wp-content/uploads/2018/09/Hula-Grill-Aloha-Friday-1.jpg
END:VEVENT
BEGIN:VEVENT
DTSTART;TZID=Pacific/Honolulu:20250810T180000
DTEND;TZID=Pacific/Honolulu:20250810T203000
DTSTAMP:20260421T130706
CREATED:20221110T214057Z
LAST-MODIFIED:20221110T214057Z
UID:16926-1754848800-1754857800@www.hulagrillkaanapali.com
SUMMARY:Live Music Accompanied by Hula Show
DESCRIPTION:Live Music Daily from 6:00pm – 8:30pm \nAccompanied by Nightly Hula Show from 7:00pm – 8:00pm
URL:https://www.hulagrillkaanapali.com/event/live-music/2025-08-10/
LOCATION:Hula Grill Ka‘anapali\, 2435 Kaanapali Parkway\, Bldg. P1\, Lahaina\, HI\, 96761\, United States
CATEGORIES:Entertainment,Weekly Happenings
ATTACH;FMTTYPE=image/jpeg:https://www.hulagrillkaanapali.com/wp-content/uploads/2018/09/Hula-Grill-Aloha-Friday-1.jpg
END:VEVENT
BEGIN:VEVENT
DTSTART;TZID=Pacific/Honolulu:20250811T180000
DTEND;TZID=Pacific/Honolulu:20250811T203000
DTSTAMP:20260421T130706
CREATED:20221110T214057Z
LAST-MODIFIED:20221110T214057Z
UID:16927-1754935200-1754944200@www.hulagrillkaanapali.com
SUMMARY:Live Music Accompanied by Hula Show
DESCRIPTION:Live Music Daily from 6:00pm – 8:30pm \nAccompanied by Nightly Hula Show from 7:00pm – 8:00pm
URL:https://www.hulagrillkaanapali.com/event/live-music/2025-08-11/
LOCATION:Hula Grill Ka‘anapali\, 2435 Kaanapali Parkway\, Bldg. P1\, Lahaina\, HI\, 96761\, United States
CATEGORIES:Entertainment,Weekly Happenings
ATTACH;FMTTYPE=image/jpeg:https://www.hulagrillkaanapali.com/wp-content/uploads/2018/09/Hula-Grill-Aloha-Friday-1.jpg
END:VEVENT
BEGIN:VEVENT
DTSTART;TZID=Pacific/Honolulu:20250812T180000
DTEND;TZID=Pacific/Honolulu:20250812T203000
DTSTAMP:20260421T130706
CREATED:20221110T214057Z
LAST-MODIFIED:20221110T214057Z
UID:16928-1755021600-1755030600@www.hulagrillkaanapali.com
SUMMARY:Live Music Accompanied by Hula Show
DESCRIPTION:Live Music Daily from 6:00pm – 8:30pm \nAccompanied by Nightly Hula Show from 7:00pm – 8:00pm
URL:https://www.hulagrillkaanapali.com/event/live-music/2025-08-12/
LOCATION:Hula Grill Ka‘anapali\, 2435 Kaanapali Parkway\, Bldg. P1\, Lahaina\, HI\, 96761\, United States
CATEGORIES:Entertainment,Weekly Happenings
ATTACH;FMTTYPE=image/jpeg:https://www.hulagrillkaanapali.com/wp-content/uploads/2018/09/Hula-Grill-Aloha-Friday-1.jpg
END:VEVENT
BEGIN:VEVENT
DTSTART;TZID=Pacific/Honolulu:20250813T180000
DTEND;TZID=Pacific/Honolulu:20250813T203000
DTSTAMP:20260421T130706
CREATED:20221110T214057Z
LAST-MODIFIED:20221110T214057Z
UID:16929-1755108000-1755117000@www.hulagrillkaanapali.com
SUMMARY:Live Music Accompanied by Hula Show
DESCRIPTION:Live Music Daily from 6:00pm – 8:30pm \nAccompanied by Nightly Hula Show from 7:00pm – 8:00pm
URL:https://www.hulagrillkaanapali.com/event/live-music/2025-08-13/
LOCATION:Hula Grill Ka‘anapali\, 2435 Kaanapali Parkway\, Bldg. P1\, Lahaina\, HI\, 96761\, United States
CATEGORIES:Entertainment,Weekly Happenings
ATTACH;FMTTYPE=image/jpeg:https://www.hulagrillkaanapali.com/wp-content/uploads/2018/09/Hula-Grill-Aloha-Friday-1.jpg
END:VEVENT
BEGIN:VEVENT
DTSTART;TZID=Pacific/Honolulu:20250814T180000
DTEND;TZID=Pacific/Honolulu:20250814T203000
DTSTAMP:20260421T130706
CREATED:20221110T214057Z
LAST-MODIFIED:20221110T214057Z
UID:16930-1755194400-1755203400@www.hulagrillkaanapali.com
SUMMARY:Live Music Accompanied by Hula Show
DESCRIPTION:Live Music Daily from 6:00pm – 8:30pm \nAccompanied by Nightly Hula Show from 7:00pm – 8:00pm
URL:https://www.hulagrillkaanapali.com/event/live-music/2025-08-14/
LOCATION:Hula Grill Ka‘anapali\, 2435 Kaanapali Parkway\, Bldg. P1\, Lahaina\, HI\, 96761\, United States
CATEGORIES:Entertainment,Weekly Happenings
ATTACH;FMTTYPE=image/jpeg:https://www.hulagrillkaanapali.com/wp-content/uploads/2018/09/Hula-Grill-Aloha-Friday-1.jpg
END:VEVENT
BEGIN:VEVENT
DTSTART;TZID=Pacific/Honolulu:20250815T180000
DTEND;TZID=Pacific/Honolulu:20250815T203000
DTSTAMP:20260421T130706
CREATED:20221110T214057Z
LAST-MODIFIED:20221110T214057Z
UID:16931-1755280800-1755289800@www.hulagrillkaanapali.com
SUMMARY:Live Music Accompanied by Hula Show
DESCRIPTION:Live Music Daily from 6:00pm – 8:30pm \nAccompanied by Nightly Hula Show from 7:00pm – 8:00pm
URL:https://www.hulagrillkaanapali.com/event/live-music/2025-08-15/
LOCATION:Hula Grill Ka‘anapali\, 2435 Kaanapali Parkway\, Bldg. P1\, Lahaina\, HI\, 96761\, United States
CATEGORIES:Entertainment,Weekly Happenings
ATTACH;FMTTYPE=image/jpeg:https://www.hulagrillkaanapali.com/wp-content/uploads/2018/09/Hula-Grill-Aloha-Friday-1.jpg
END:VEVENT
BEGIN:VEVENT
DTSTART;TZID=Pacific/Honolulu:20250816T180000
DTEND;TZID=Pacific/Honolulu:20250816T203000
DTSTAMP:20260421T130706
CREATED:20221110T214057Z
LAST-MODIFIED:20221110T214057Z
UID:16932-1755367200-1755376200@www.hulagrillkaanapali.com
SUMMARY:Live Music Accompanied by Hula Show
DESCRIPTION:Live Music Daily from 6:00pm – 8:30pm \nAccompanied by Nightly Hula Show from 7:00pm – 8:00pm
URL:https://www.hulagrillkaanapali.com/event/live-music/2025-08-16/
LOCATION:Hula Grill Ka‘anapali\, 2435 Kaanapali Parkway\, Bldg. P1\, Lahaina\, HI\, 96761\, United States
CATEGORIES:Entertainment,Weekly Happenings
ATTACH;FMTTYPE=image/jpeg:https://www.hulagrillkaanapali.com/wp-content/uploads/2018/09/Hula-Grill-Aloha-Friday-1.jpg
END:VEVENT
BEGIN:VEVENT
DTSTART;TZID=Pacific/Honolulu:20250817T180000
DTEND;TZID=Pacific/Honolulu:20250817T203000
DTSTAMP:20260421T130706
CREATED:20221110T214057Z
LAST-MODIFIED:20221110T214057Z
UID:16933-1755453600-1755462600@www.hulagrillkaanapali.com
SUMMARY:Live Music Accompanied by Hula Show
DESCRIPTION:Live Music Daily from 6:00pm – 8:30pm \nAccompanied by Nightly Hula Show from 7:00pm – 8:00pm
URL:https://www.hulagrillkaanapali.com/event/live-music/2025-08-17/
LOCATION:Hula Grill Ka‘anapali\, 2435 Kaanapali Parkway\, Bldg. P1\, Lahaina\, HI\, 96761\, United States
CATEGORIES:Entertainment,Weekly Happenings
ATTACH;FMTTYPE=image/jpeg:https://www.hulagrillkaanapali.com/wp-content/uploads/2018/09/Hula-Grill-Aloha-Friday-1.jpg
END:VEVENT
BEGIN:VEVENT
DTSTART;TZID=Pacific/Honolulu:20250818T180000
DTEND;TZID=Pacific/Honolulu:20250818T203000
DTSTAMP:20260421T130706
CREATED:20221110T214057Z
LAST-MODIFIED:20221110T214057Z
UID:16934-1755540000-1755549000@www.hulagrillkaanapali.com
SUMMARY:Live Music Accompanied by Hula Show
DESCRIPTION:Live Music Daily from 6:00pm – 8:30pm \nAccompanied by Nightly Hula Show from 7:00pm – 8:00pm
URL:https://www.hulagrillkaanapali.com/event/live-music/2025-08-18/
LOCATION:Hula Grill Ka‘anapali\, 2435 Kaanapali Parkway\, Bldg. P1\, Lahaina\, HI\, 96761\, United States
CATEGORIES:Entertainment,Weekly Happenings
ATTACH;FMTTYPE=image/jpeg:https://www.hulagrillkaanapali.com/wp-content/uploads/2018/09/Hula-Grill-Aloha-Friday-1.jpg
END:VEVENT
END:VCALENDAR