BEGIN:VCALENDAR
VERSION:2.0
PRODID:-//Hula Grill Kaanapali - ECPv6.15.5//NONSGML v1.0//EN
CALSCALE:GREGORIAN
METHOD:PUBLISH
X-WR-CALNAME:Hula Grill Kaanapali
X-ORIGINAL-URL:https://www.hulagrillkaanapali.com
X-WR-CALDESC:Events for Hula Grill Kaanapali
REFRESH-INTERVAL;VALUE=DURATION:PT1H
X-Robots-Tag:noindex
X-PUBLISHED-TTL:PT1H
BEGIN:VTIMEZONE
TZID:Pacific/Honolulu
BEGIN:STANDARD
TZOFFSETFROM:-1000
TZOFFSETTO:-1000
TZNAME:HST
DTSTART:20250101T000000
END:STANDARD
END:VTIMEZONE
BEGIN:VEVENT
DTSTART;TZID=Pacific/Honolulu:20251013T180000
DTEND;TZID=Pacific/Honolulu:20251013T203000
DTSTAMP:20260421T141020
CREATED:20221110T214057Z
LAST-MODIFIED:20221110T214057Z
UID:16990-1760378400-1760387400@www.hulagrillkaanapali.com
SUMMARY:Live Music Accompanied by Hula Show
DESCRIPTION:Live Music Daily from 6:00pm – 8:30pm \nAccompanied by Nightly Hula Show from 7:00pm – 8:00pm
URL:https://www.hulagrillkaanapali.com/event/live-music/2025-10-13/
LOCATION:Hula Grill Ka‘anapali\, 2435 Kaanapali Parkway\, Bldg. P1\, Lahaina\, HI\, 96761\, United States
CATEGORIES:Entertainment,Weekly Happenings
ATTACH;FMTTYPE=image/jpeg:https://www.hulagrillkaanapali.com/wp-content/uploads/2018/09/Hula-Grill-Aloha-Friday-1.jpg
END:VEVENT
BEGIN:VEVENT
DTSTART;TZID=Pacific/Honolulu:20251012T180000
DTEND;TZID=Pacific/Honolulu:20251012T203000
DTSTAMP:20260421T141020
CREATED:20221110T214057Z
LAST-MODIFIED:20221110T214057Z
UID:16989-1760292000-1760301000@www.hulagrillkaanapali.com
SUMMARY:Live Music Accompanied by Hula Show
DESCRIPTION:Live Music Daily from 6:00pm – 8:30pm \nAccompanied by Nightly Hula Show from 7:00pm – 8:00pm
URL:https://www.hulagrillkaanapali.com/event/live-music/2025-10-12/
LOCATION:Hula Grill Ka‘anapali\, 2435 Kaanapali Parkway\, Bldg. P1\, Lahaina\, HI\, 96761\, United States
CATEGORIES:Entertainment,Weekly Happenings
ATTACH;FMTTYPE=image/jpeg:https://www.hulagrillkaanapali.com/wp-content/uploads/2018/09/Hula-Grill-Aloha-Friday-1.jpg
END:VEVENT
BEGIN:VEVENT
DTSTART;TZID=Pacific/Honolulu:20251011T180000
DTEND;TZID=Pacific/Honolulu:20251011T203000
DTSTAMP:20260421T141020
CREATED:20221110T214057Z
LAST-MODIFIED:20221110T214057Z
UID:16988-1760205600-1760214600@www.hulagrillkaanapali.com
SUMMARY:Live Music Accompanied by Hula Show
DESCRIPTION:Live Music Daily from 6:00pm – 8:30pm \nAccompanied by Nightly Hula Show from 7:00pm – 8:00pm
URL:https://www.hulagrillkaanapali.com/event/live-music/2025-10-11/
LOCATION:Hula Grill Ka‘anapali\, 2435 Kaanapali Parkway\, Bldg. P1\, Lahaina\, HI\, 96761\, United States
CATEGORIES:Entertainment,Weekly Happenings
ATTACH;FMTTYPE=image/jpeg:https://www.hulagrillkaanapali.com/wp-content/uploads/2018/09/Hula-Grill-Aloha-Friday-1.jpg
END:VEVENT
BEGIN:VEVENT
DTSTART;TZID=Pacific/Honolulu:20251010T180000
DTEND;TZID=Pacific/Honolulu:20251010T203000
DTSTAMP:20260421T141020
CREATED:20221110T214057Z
LAST-MODIFIED:20221110T214057Z
UID:16987-1760119200-1760128200@www.hulagrillkaanapali.com
SUMMARY:Live Music Accompanied by Hula Show
DESCRIPTION:Live Music Daily from 6:00pm – 8:30pm \nAccompanied by Nightly Hula Show from 7:00pm – 8:00pm
URL:https://www.hulagrillkaanapali.com/event/live-music/2025-10-10/
LOCATION:Hula Grill Ka‘anapali\, 2435 Kaanapali Parkway\, Bldg. P1\, Lahaina\, HI\, 96761\, United States
CATEGORIES:Entertainment,Weekly Happenings
ATTACH;FMTTYPE=image/jpeg:https://www.hulagrillkaanapali.com/wp-content/uploads/2018/09/Hula-Grill-Aloha-Friday-1.jpg
END:VEVENT
BEGIN:VEVENT
DTSTART;TZID=Pacific/Honolulu:20251009T180000
DTEND;TZID=Pacific/Honolulu:20251009T203000
DTSTAMP:20260421T141020
CREATED:20221110T214057Z
LAST-MODIFIED:20221110T214057Z
UID:16986-1760032800-1760041800@www.hulagrillkaanapali.com
SUMMARY:Live Music Accompanied by Hula Show
DESCRIPTION:Live Music Daily from 6:00pm – 8:30pm \nAccompanied by Nightly Hula Show from 7:00pm – 8:00pm
URL:https://www.hulagrillkaanapali.com/event/live-music/2025-10-09/
LOCATION:Hula Grill Ka‘anapali\, 2435 Kaanapali Parkway\, Bldg. P1\, Lahaina\, HI\, 96761\, United States
CATEGORIES:Entertainment,Weekly Happenings
ATTACH;FMTTYPE=image/jpeg:https://www.hulagrillkaanapali.com/wp-content/uploads/2018/09/Hula-Grill-Aloha-Friday-1.jpg
END:VEVENT
BEGIN:VEVENT
DTSTART;TZID=Pacific/Honolulu:20251008T180000
DTEND;TZID=Pacific/Honolulu:20251008T203000
DTSTAMP:20260421T141020
CREATED:20221110T214057Z
LAST-MODIFIED:20221110T214057Z
UID:16985-1759946400-1759955400@www.hulagrillkaanapali.com
SUMMARY:Live Music Accompanied by Hula Show
DESCRIPTION:Live Music Daily from 6:00pm – 8:30pm \nAccompanied by Nightly Hula Show from 7:00pm – 8:00pm
URL:https://www.hulagrillkaanapali.com/event/live-music/2025-10-08/
LOCATION:Hula Grill Ka‘anapali\, 2435 Kaanapali Parkway\, Bldg. P1\, Lahaina\, HI\, 96761\, United States
CATEGORIES:Entertainment,Weekly Happenings
ATTACH;FMTTYPE=image/jpeg:https://www.hulagrillkaanapali.com/wp-content/uploads/2018/09/Hula-Grill-Aloha-Friday-1.jpg
END:VEVENT
BEGIN:VEVENT
DTSTART;TZID=Pacific/Honolulu:20251007T180000
DTEND;TZID=Pacific/Honolulu:20251007T203000
DTSTAMP:20260421T141020
CREATED:20221110T214057Z
LAST-MODIFIED:20221110T214057Z
UID:16984-1759860000-1759869000@www.hulagrillkaanapali.com
SUMMARY:Live Music Accompanied by Hula Show
DESCRIPTION:Live Music Daily from 6:00pm – 8:30pm \nAccompanied by Nightly Hula Show from 7:00pm – 8:00pm
URL:https://www.hulagrillkaanapali.com/event/live-music/2025-10-07/
LOCATION:Hula Grill Ka‘anapali\, 2435 Kaanapali Parkway\, Bldg. P1\, Lahaina\, HI\, 96761\, United States
CATEGORIES:Entertainment,Weekly Happenings
ATTACH;FMTTYPE=image/jpeg:https://www.hulagrillkaanapali.com/wp-content/uploads/2018/09/Hula-Grill-Aloha-Friday-1.jpg
END:VEVENT
BEGIN:VEVENT
DTSTART;TZID=Pacific/Honolulu:20251006T180000
DTEND;TZID=Pacific/Honolulu:20251006T203000
DTSTAMP:20260421T141020
CREATED:20221110T214057Z
LAST-MODIFIED:20221110T214057Z
UID:16983-1759773600-1759782600@www.hulagrillkaanapali.com
SUMMARY:Live Music Accompanied by Hula Show
DESCRIPTION:Live Music Daily from 6:00pm – 8:30pm \nAccompanied by Nightly Hula Show from 7:00pm – 8:00pm
URL:https://www.hulagrillkaanapali.com/event/live-music/2025-10-06/
LOCATION:Hula Grill Ka‘anapali\, 2435 Kaanapali Parkway\, Bldg. P1\, Lahaina\, HI\, 96761\, United States
CATEGORIES:Entertainment,Weekly Happenings
ATTACH;FMTTYPE=image/jpeg:https://www.hulagrillkaanapali.com/wp-content/uploads/2018/09/Hula-Grill-Aloha-Friday-1.jpg
END:VEVENT
BEGIN:VEVENT
DTSTART;TZID=Pacific/Honolulu:20251005T180000
DTEND;TZID=Pacific/Honolulu:20251005T203000
DTSTAMP:20260421T141020
CREATED:20221110T214057Z
LAST-MODIFIED:20221110T214057Z
UID:16982-1759687200-1759696200@www.hulagrillkaanapali.com
SUMMARY:Live Music Accompanied by Hula Show
DESCRIPTION:Live Music Daily from 6:00pm – 8:30pm \nAccompanied by Nightly Hula Show from 7:00pm – 8:00pm
URL:https://www.hulagrillkaanapali.com/event/live-music/2025-10-05/
LOCATION:Hula Grill Ka‘anapali\, 2435 Kaanapali Parkway\, Bldg. P1\, Lahaina\, HI\, 96761\, United States
CATEGORIES:Entertainment,Weekly Happenings
ATTACH;FMTTYPE=image/jpeg:https://www.hulagrillkaanapali.com/wp-content/uploads/2018/09/Hula-Grill-Aloha-Friday-1.jpg
END:VEVENT
BEGIN:VEVENT
DTSTART;TZID=Pacific/Honolulu:20251004T180000
DTEND;TZID=Pacific/Honolulu:20251004T203000
DTSTAMP:20260421T141020
CREATED:20221110T214057Z
LAST-MODIFIED:20221110T214057Z
UID:16981-1759600800-1759609800@www.hulagrillkaanapali.com
SUMMARY:Live Music Accompanied by Hula Show
DESCRIPTION:Live Music Daily from 6:00pm – 8:30pm \nAccompanied by Nightly Hula Show from 7:00pm – 8:00pm
URL:https://www.hulagrillkaanapali.com/event/live-music/2025-10-04/
LOCATION:Hula Grill Ka‘anapali\, 2435 Kaanapali Parkway\, Bldg. P1\, Lahaina\, HI\, 96761\, United States
CATEGORIES:Entertainment,Weekly Happenings
ATTACH;FMTTYPE=image/jpeg:https://www.hulagrillkaanapali.com/wp-content/uploads/2018/09/Hula-Grill-Aloha-Friday-1.jpg
END:VEVENT
BEGIN:VEVENT
DTSTART;TZID=Pacific/Honolulu:20251003T180000
DTEND;TZID=Pacific/Honolulu:20251003T203000
DTSTAMP:20260421T141020
CREATED:20221110T214057Z
LAST-MODIFIED:20221110T214057Z
UID:16980-1759514400-1759523400@www.hulagrillkaanapali.com
SUMMARY:Live Music Accompanied by Hula Show
DESCRIPTION:Live Music Daily from 6:00pm – 8:30pm \nAccompanied by Nightly Hula Show from 7:00pm – 8:00pm
URL:https://www.hulagrillkaanapali.com/event/live-music/2025-10-03/
LOCATION:Hula Grill Ka‘anapali\, 2435 Kaanapali Parkway\, Bldg. P1\, Lahaina\, HI\, 96761\, United States
CATEGORIES:Entertainment,Weekly Happenings
ATTACH;FMTTYPE=image/jpeg:https://www.hulagrillkaanapali.com/wp-content/uploads/2018/09/Hula-Grill-Aloha-Friday-1.jpg
END:VEVENT
BEGIN:VEVENT
DTSTART;TZID=Pacific/Honolulu:20251002T180000
DTEND;TZID=Pacific/Honolulu:20251002T203000
DTSTAMP:20260421T141020
CREATED:20221110T214057Z
LAST-MODIFIED:20221110T214057Z
UID:16979-1759428000-1759437000@www.hulagrillkaanapali.com
SUMMARY:Live Music Accompanied by Hula Show
DESCRIPTION:Live Music Daily from 6:00pm – 8:30pm \nAccompanied by Nightly Hula Show from 7:00pm – 8:00pm
URL:https://www.hulagrillkaanapali.com/event/live-music/2025-10-02/
LOCATION:Hula Grill Ka‘anapali\, 2435 Kaanapali Parkway\, Bldg. P1\, Lahaina\, HI\, 96761\, United States
CATEGORIES:Entertainment,Weekly Happenings
ATTACH;FMTTYPE=image/jpeg:https://www.hulagrillkaanapali.com/wp-content/uploads/2018/09/Hula-Grill-Aloha-Friday-1.jpg
END:VEVENT
BEGIN:VEVENT
DTSTART;TZID=Pacific/Honolulu:20251001T180000
DTEND;TZID=Pacific/Honolulu:20251001T203000
DTSTAMP:20260421T141020
CREATED:20221110T214057Z
LAST-MODIFIED:20221110T214057Z
UID:16978-1759341600-1759350600@www.hulagrillkaanapali.com
SUMMARY:Live Music Accompanied by Hula Show
DESCRIPTION:Live Music Daily from 6:00pm – 8:30pm \nAccompanied by Nightly Hula Show from 7:00pm – 8:00pm
URL:https://www.hulagrillkaanapali.com/event/live-music/2025-10-01/
LOCATION:Hula Grill Ka‘anapali\, 2435 Kaanapali Parkway\, Bldg. P1\, Lahaina\, HI\, 96761\, United States
CATEGORIES:Entertainment,Weekly Happenings
ATTACH;FMTTYPE=image/jpeg:https://www.hulagrillkaanapali.com/wp-content/uploads/2018/09/Hula-Grill-Aloha-Friday-1.jpg
END:VEVENT
BEGIN:VEVENT
DTSTART;TZID=Pacific/Honolulu:20250930T180000
DTEND;TZID=Pacific/Honolulu:20250930T203000
DTSTAMP:20260421T141020
CREATED:20221110T214057Z
LAST-MODIFIED:20221110T214057Z
UID:16977-1759255200-1759264200@www.hulagrillkaanapali.com
SUMMARY:Live Music Accompanied by Hula Show
DESCRIPTION:Live Music Daily from 6:00pm – 8:30pm \nAccompanied by Nightly Hula Show from 7:00pm – 8:00pm
URL:https://www.hulagrillkaanapali.com/event/live-music/2025-09-30/
LOCATION:Hula Grill Ka‘anapali\, 2435 Kaanapali Parkway\, Bldg. P1\, Lahaina\, HI\, 96761\, United States
CATEGORIES:Entertainment,Weekly Happenings
ATTACH;FMTTYPE=image/jpeg:https://www.hulagrillkaanapali.com/wp-content/uploads/2018/09/Hula-Grill-Aloha-Friday-1.jpg
END:VEVENT
BEGIN:VEVENT
DTSTART;TZID=Pacific/Honolulu:20250929T180000
DTEND;TZID=Pacific/Honolulu:20250929T203000
DTSTAMP:20260421T141020
CREATED:20221110T214057Z
LAST-MODIFIED:20221110T214057Z
UID:16976-1759168800-1759177800@www.hulagrillkaanapali.com
SUMMARY:Live Music Accompanied by Hula Show
DESCRIPTION:Live Music Daily from 6:00pm – 8:30pm \nAccompanied by Nightly Hula Show from 7:00pm – 8:00pm
URL:https://www.hulagrillkaanapali.com/event/live-music/2025-09-29/
LOCATION:Hula Grill Ka‘anapali\, 2435 Kaanapali Parkway\, Bldg. P1\, Lahaina\, HI\, 96761\, United States
CATEGORIES:Entertainment,Weekly Happenings
ATTACH;FMTTYPE=image/jpeg:https://www.hulagrillkaanapali.com/wp-content/uploads/2018/09/Hula-Grill-Aloha-Friday-1.jpg
END:VEVENT
BEGIN:VEVENT
DTSTART;TZID=Pacific/Honolulu:20250928T180000
DTEND;TZID=Pacific/Honolulu:20250928T203000
DTSTAMP:20260421T141020
CREATED:20221110T214057Z
LAST-MODIFIED:20221110T214057Z
UID:16975-1759082400-1759091400@www.hulagrillkaanapali.com
SUMMARY:Live Music Accompanied by Hula Show
DESCRIPTION:Live Music Daily from 6:00pm – 8:30pm \nAccompanied by Nightly Hula Show from 7:00pm – 8:00pm
URL:https://www.hulagrillkaanapali.com/event/live-music/2025-09-28/
LOCATION:Hula Grill Ka‘anapali\, 2435 Kaanapali Parkway\, Bldg. P1\, Lahaina\, HI\, 96761\, United States
CATEGORIES:Entertainment,Weekly Happenings
ATTACH;FMTTYPE=image/jpeg:https://www.hulagrillkaanapali.com/wp-content/uploads/2018/09/Hula-Grill-Aloha-Friday-1.jpg
END:VEVENT
BEGIN:VEVENT
DTSTART;TZID=Pacific/Honolulu:20250927T180000
DTEND;TZID=Pacific/Honolulu:20250927T203000
DTSTAMP:20260421T141020
CREATED:20221110T214057Z
LAST-MODIFIED:20221110T214057Z
UID:16974-1758996000-1759005000@www.hulagrillkaanapali.com
SUMMARY:Live Music Accompanied by Hula Show
DESCRIPTION:Live Music Daily from 6:00pm – 8:30pm \nAccompanied by Nightly Hula Show from 7:00pm – 8:00pm
URL:https://www.hulagrillkaanapali.com/event/live-music/2025-09-27/
LOCATION:Hula Grill Ka‘anapali\, 2435 Kaanapali Parkway\, Bldg. P1\, Lahaina\, HI\, 96761\, United States
CATEGORIES:Entertainment,Weekly Happenings
ATTACH;FMTTYPE=image/jpeg:https://www.hulagrillkaanapali.com/wp-content/uploads/2018/09/Hula-Grill-Aloha-Friday-1.jpg
END:VEVENT
BEGIN:VEVENT
DTSTART;TZID=Pacific/Honolulu:20250926T180000
DTEND;TZID=Pacific/Honolulu:20250926T203000
DTSTAMP:20260421T141020
CREATED:20221110T214057Z
LAST-MODIFIED:20221110T214057Z
UID:16973-1758909600-1758918600@www.hulagrillkaanapali.com
SUMMARY:Live Music Accompanied by Hula Show
DESCRIPTION:Live Music Daily from 6:00pm – 8:30pm \nAccompanied by Nightly Hula Show from 7:00pm – 8:00pm
URL:https://www.hulagrillkaanapali.com/event/live-music/2025-09-26/
LOCATION:Hula Grill Ka‘anapali\, 2435 Kaanapali Parkway\, Bldg. P1\, Lahaina\, HI\, 96761\, United States
CATEGORIES:Entertainment,Weekly Happenings
ATTACH;FMTTYPE=image/jpeg:https://www.hulagrillkaanapali.com/wp-content/uploads/2018/09/Hula-Grill-Aloha-Friday-1.jpg
END:VEVENT
BEGIN:VEVENT
DTSTART;TZID=Pacific/Honolulu:20250925T180000
DTEND;TZID=Pacific/Honolulu:20250925T203000
DTSTAMP:20260421T141020
CREATED:20221110T214057Z
LAST-MODIFIED:20221110T214057Z
UID:16972-1758823200-1758832200@www.hulagrillkaanapali.com
SUMMARY:Live Music Accompanied by Hula Show
DESCRIPTION:Live Music Daily from 6:00pm – 8:30pm \nAccompanied by Nightly Hula Show from 7:00pm – 8:00pm
URL:https://www.hulagrillkaanapali.com/event/live-music/2025-09-25/
LOCATION:Hula Grill Ka‘anapali\, 2435 Kaanapali Parkway\, Bldg. P1\, Lahaina\, HI\, 96761\, United States
CATEGORIES:Entertainment,Weekly Happenings
ATTACH;FMTTYPE=image/jpeg:https://www.hulagrillkaanapali.com/wp-content/uploads/2018/09/Hula-Grill-Aloha-Friday-1.jpg
END:VEVENT
BEGIN:VEVENT
DTSTART;TZID=Pacific/Honolulu:20250924T180000
DTEND;TZID=Pacific/Honolulu:20250924T203000
DTSTAMP:20260421T141020
CREATED:20221110T214057Z
LAST-MODIFIED:20221110T214057Z
UID:16971-1758736800-1758745800@www.hulagrillkaanapali.com
SUMMARY:Live Music Accompanied by Hula Show
DESCRIPTION:Live Music Daily from 6:00pm – 8:30pm \nAccompanied by Nightly Hula Show from 7:00pm – 8:00pm
URL:https://www.hulagrillkaanapali.com/event/live-music/2025-09-24/
LOCATION:Hula Grill Ka‘anapali\, 2435 Kaanapali Parkway\, Bldg. P1\, Lahaina\, HI\, 96761\, United States
CATEGORIES:Entertainment,Weekly Happenings
ATTACH;FMTTYPE=image/jpeg:https://www.hulagrillkaanapali.com/wp-content/uploads/2018/09/Hula-Grill-Aloha-Friday-1.jpg
END:VEVENT
BEGIN:VEVENT
DTSTART;TZID=Pacific/Honolulu:20250923T180000
DTEND;TZID=Pacific/Honolulu:20250923T203000
DTSTAMP:20260421T141020
CREATED:20221110T214057Z
LAST-MODIFIED:20221110T214057Z
UID:16970-1758650400-1758659400@www.hulagrillkaanapali.com
SUMMARY:Live Music Accompanied by Hula Show
DESCRIPTION:Live Music Daily from 6:00pm – 8:30pm \nAccompanied by Nightly Hula Show from 7:00pm – 8:00pm
URL:https://www.hulagrillkaanapali.com/event/live-music/2025-09-23/
LOCATION:Hula Grill Ka‘anapali\, 2435 Kaanapali Parkway\, Bldg. P1\, Lahaina\, HI\, 96761\, United States
CATEGORIES:Entertainment,Weekly Happenings
ATTACH;FMTTYPE=image/jpeg:https://www.hulagrillkaanapali.com/wp-content/uploads/2018/09/Hula-Grill-Aloha-Friday-1.jpg
END:VEVENT
BEGIN:VEVENT
DTSTART;TZID=Pacific/Honolulu:20250922T180000
DTEND;TZID=Pacific/Honolulu:20250922T203000
DTSTAMP:20260421T141020
CREATED:20221110T214057Z
LAST-MODIFIED:20221110T214057Z
UID:16969-1758564000-1758573000@www.hulagrillkaanapali.com
SUMMARY:Live Music Accompanied by Hula Show
DESCRIPTION:Live Music Daily from 6:00pm – 8:30pm \nAccompanied by Nightly Hula Show from 7:00pm – 8:00pm
URL:https://www.hulagrillkaanapali.com/event/live-music/2025-09-22/
LOCATION:Hula Grill Ka‘anapali\, 2435 Kaanapali Parkway\, Bldg. P1\, Lahaina\, HI\, 96761\, United States
CATEGORIES:Entertainment,Weekly Happenings
ATTACH;FMTTYPE=image/jpeg:https://www.hulagrillkaanapali.com/wp-content/uploads/2018/09/Hula-Grill-Aloha-Friday-1.jpg
END:VEVENT
BEGIN:VEVENT
DTSTART;TZID=Pacific/Honolulu:20250921T180000
DTEND;TZID=Pacific/Honolulu:20250921T203000
DTSTAMP:20260421T141020
CREATED:20221110T214057Z
LAST-MODIFIED:20221110T214057Z
UID:16968-1758477600-1758486600@www.hulagrillkaanapali.com
SUMMARY:Live Music Accompanied by Hula Show
DESCRIPTION:Live Music Daily from 6:00pm – 8:30pm \nAccompanied by Nightly Hula Show from 7:00pm – 8:00pm
URL:https://www.hulagrillkaanapali.com/event/live-music/2025-09-21/
LOCATION:Hula Grill Ka‘anapali\, 2435 Kaanapali Parkway\, Bldg. P1\, Lahaina\, HI\, 96761\, United States
CATEGORIES:Entertainment,Weekly Happenings
ATTACH;FMTTYPE=image/jpeg:https://www.hulagrillkaanapali.com/wp-content/uploads/2018/09/Hula-Grill-Aloha-Friday-1.jpg
END:VEVENT
BEGIN:VEVENT
DTSTART;TZID=Pacific/Honolulu:20250920T180000
DTEND;TZID=Pacific/Honolulu:20250920T203000
DTSTAMP:20260421T141020
CREATED:20221110T214057Z
LAST-MODIFIED:20221110T214057Z
UID:16967-1758391200-1758400200@www.hulagrillkaanapali.com
SUMMARY:Live Music Accompanied by Hula Show
DESCRIPTION:Live Music Daily from 6:00pm – 8:30pm \nAccompanied by Nightly Hula Show from 7:00pm – 8:00pm
URL:https://www.hulagrillkaanapali.com/event/live-music/2025-09-20/
LOCATION:Hula Grill Ka‘anapali\, 2435 Kaanapali Parkway\, Bldg. P1\, Lahaina\, HI\, 96761\, United States
CATEGORIES:Entertainment,Weekly Happenings
ATTACH;FMTTYPE=image/jpeg:https://www.hulagrillkaanapali.com/wp-content/uploads/2018/09/Hula-Grill-Aloha-Friday-1.jpg
END:VEVENT
BEGIN:VEVENT
DTSTART;TZID=Pacific/Honolulu:20250919T180000
DTEND;TZID=Pacific/Honolulu:20250919T203000
DTSTAMP:20260421T141020
CREATED:20221110T214057Z
LAST-MODIFIED:20221110T214057Z
UID:16966-1758304800-1758313800@www.hulagrillkaanapali.com
SUMMARY:Live Music Accompanied by Hula Show
DESCRIPTION:Live Music Daily from 6:00pm – 8:30pm \nAccompanied by Nightly Hula Show from 7:00pm – 8:00pm
URL:https://www.hulagrillkaanapali.com/event/live-music/2025-09-19/
LOCATION:Hula Grill Ka‘anapali\, 2435 Kaanapali Parkway\, Bldg. P1\, Lahaina\, HI\, 96761\, United States
CATEGORIES:Entertainment,Weekly Happenings
ATTACH;FMTTYPE=image/jpeg:https://www.hulagrillkaanapali.com/wp-content/uploads/2018/09/Hula-Grill-Aloha-Friday-1.jpg
END:VEVENT
BEGIN:VEVENT
DTSTART;TZID=Pacific/Honolulu:20250918T180000
DTEND;TZID=Pacific/Honolulu:20250918T203000
DTSTAMP:20260421T141020
CREATED:20221110T214057Z
LAST-MODIFIED:20221110T214057Z
UID:16965-1758218400-1758227400@www.hulagrillkaanapali.com
SUMMARY:Live Music Accompanied by Hula Show
DESCRIPTION:Live Music Daily from 6:00pm – 8:30pm \nAccompanied by Nightly Hula Show from 7:00pm – 8:00pm
URL:https://www.hulagrillkaanapali.com/event/live-music/2025-09-18/
LOCATION:Hula Grill Ka‘anapali\, 2435 Kaanapali Parkway\, Bldg. P1\, Lahaina\, HI\, 96761\, United States
CATEGORIES:Entertainment,Weekly Happenings
ATTACH;FMTTYPE=image/jpeg:https://www.hulagrillkaanapali.com/wp-content/uploads/2018/09/Hula-Grill-Aloha-Friday-1.jpg
END:VEVENT
BEGIN:VEVENT
DTSTART;TZID=Pacific/Honolulu:20250917T180000
DTEND;TZID=Pacific/Honolulu:20250917T203000
DTSTAMP:20260421T141020
CREATED:20221110T214057Z
LAST-MODIFIED:20221110T214057Z
UID:16964-1758132000-1758141000@www.hulagrillkaanapali.com
SUMMARY:Live Music Accompanied by Hula Show
DESCRIPTION:Live Music Daily from 6:00pm – 8:30pm \nAccompanied by Nightly Hula Show from 7:00pm – 8:00pm
URL:https://www.hulagrillkaanapali.com/event/live-music/2025-09-17/
LOCATION:Hula Grill Ka‘anapali\, 2435 Kaanapali Parkway\, Bldg. P1\, Lahaina\, HI\, 96761\, United States
CATEGORIES:Entertainment,Weekly Happenings
ATTACH;FMTTYPE=image/jpeg:https://www.hulagrillkaanapali.com/wp-content/uploads/2018/09/Hula-Grill-Aloha-Friday-1.jpg
END:VEVENT
BEGIN:VEVENT
DTSTART;TZID=Pacific/Honolulu:20250916T180000
DTEND;TZID=Pacific/Honolulu:20250916T203000
DTSTAMP:20260421T141020
CREATED:20221110T214057Z
LAST-MODIFIED:20221110T214057Z
UID:16963-1758045600-1758054600@www.hulagrillkaanapali.com
SUMMARY:Live Music Accompanied by Hula Show
DESCRIPTION:Live Music Daily from 6:00pm – 8:30pm \nAccompanied by Nightly Hula Show from 7:00pm – 8:00pm
URL:https://www.hulagrillkaanapali.com/event/live-music/2025-09-16/
LOCATION:Hula Grill Ka‘anapali\, 2435 Kaanapali Parkway\, Bldg. P1\, Lahaina\, HI\, 96761\, United States
CATEGORIES:Entertainment,Weekly Happenings
ATTACH;FMTTYPE=image/jpeg:https://www.hulagrillkaanapali.com/wp-content/uploads/2018/09/Hula-Grill-Aloha-Friday-1.jpg
END:VEVENT
BEGIN:VEVENT
DTSTART;TZID=Pacific/Honolulu:20250915T180000
DTEND;TZID=Pacific/Honolulu:20250915T203000
DTSTAMP:20260421T141020
CREATED:20221110T214057Z
LAST-MODIFIED:20221110T214057Z
UID:16962-1757959200-1757968200@www.hulagrillkaanapali.com
SUMMARY:Live Music Accompanied by Hula Show
DESCRIPTION:Live Music Daily from 6:00pm – 8:30pm \nAccompanied by Nightly Hula Show from 7:00pm – 8:00pm
URL:https://www.hulagrillkaanapali.com/event/live-music/2025-09-15/
LOCATION:Hula Grill Ka‘anapali\, 2435 Kaanapali Parkway\, Bldg. P1\, Lahaina\, HI\, 96761\, United States
CATEGORIES:Entertainment,Weekly Happenings
ATTACH;FMTTYPE=image/jpeg:https://www.hulagrillkaanapali.com/wp-content/uploads/2018/09/Hula-Grill-Aloha-Friday-1.jpg
END:VEVENT
BEGIN:VEVENT
DTSTART;TZID=Pacific/Honolulu:20250914T180000
DTEND;TZID=Pacific/Honolulu:20250914T203000
DTSTAMP:20260421T141020
CREATED:20221110T214057Z
LAST-MODIFIED:20221110T214057Z
UID:16961-1757872800-1757881800@www.hulagrillkaanapali.com
SUMMARY:Live Music Accompanied by Hula Show
DESCRIPTION:Live Music Daily from 6:00pm – 8:30pm \nAccompanied by Nightly Hula Show from 7:00pm – 8:00pm
URL:https://www.hulagrillkaanapali.com/event/live-music/2025-09-14/
LOCATION:Hula Grill Ka‘anapali\, 2435 Kaanapali Parkway\, Bldg. P1\, Lahaina\, HI\, 96761\, United States
CATEGORIES:Entertainment,Weekly Happenings
ATTACH;FMTTYPE=image/jpeg:https://www.hulagrillkaanapali.com/wp-content/uploads/2018/09/Hula-Grill-Aloha-Friday-1.jpg
END:VEVENT
END:VCALENDAR